BEGIN:VCALENDAR
VERSION:2.0
PRODID:-//Our Saviour Lutheran Church Rochedale - ECPv6.4.0.1//NONSGML v1.0//EN
CALSCALE:GREGORIAN
METHOD:PUBLISH
X-WR-CALNAME:Our Saviour Lutheran Church Rochedale
X-ORIGINAL-URL:https://oslc.org.au
X-WR-CALDESC:Events for Our Saviour Lutheran Church Rochedale
REFRESH-INTERVAL;VALUE=DURATION:PT1H
X-Robots-Tag:noindex
X-PUBLISHED-TTL:PT1H
BEGIN:VTIMEZONE
TZID:Australia/Brisbane
BEGIN:STANDARD
TZOFFSETFROM:+1000
TZOFFSETTO:+1000
TZNAME:AEST
DTSTART:20250101T000000
END:STANDARD
END:VTIMEZONE
BEGIN:VEVENT
DTSTART;VALUE=DATE:20250922
DTEND;VALUE=DATE:20250926
DTSTAMP:20260423T073028
CREATED:20230810T031702Z
LAST-MODIFIED:20240510T001403Z
UID:10004448-1758499200-1758844799@oslc.org.au
SUMMARY:LYQ Spring CLW Central Qld
DESCRIPTION:Lutheran Youth of Queensland run a number of camps and events throughout Queensland for children and youth. Check out the link for more information.
URL:https://oslc.org.au/event/lyq-spring-clw-central-qld/2025-09-22/
CATEGORIES:Exploring Faith,Life Stages,LYQ,Teenagers
ATTACH;FMTTYPE=image/png:https://oslc.org.au/wp-content/uploads/2023/08/Screenshot-2023-08-31-at-1.07.27-pm-e1693451674296.png
END:VEVENT
BEGIN:VEVENT
DTSTART;TZID=Australia/Brisbane:20250922T190000
DTEND;TZID=Australia/Brisbane:20250922T210000
DTSTAMP:20260423T073028
CREATED:20230905T043210Z
LAST-MODIFIED:20230906T001251Z
UID:10006992-1758567600-1758574800@oslc.org.au
SUMMARY:Home Group - Meaningful Mondays
DESCRIPTION:Home groups are a place where you can connect with others and support one another in matters of faith and life. There’s a range of opportunities\, hopefully at a time and place that will suit you.
URL:https://oslc.org.au/event/home-group-meaningful-mondays/2025-09-22/
CATEGORIES:Exploring Faith,Home Group,Life Stages,Teenagers,Young Adults
END:VEVENT
BEGIN:VEVENT
DTSTART;TZID=Australia/Brisbane:20250922T190000
DTEND;TZID=Australia/Brisbane:20250922T210000
DTSTAMP:20260423T073028
CREATED:20230921T230626Z
LAST-MODIFIED:20240509T052741Z
UID:10007259-1758567600-1758574800@oslc.org.au
SUMMARY:OSY Team
DESCRIPTION:The OSY Team look after our Friday night youth group and meet once a fortnight to check-in on each other and plan for what’s coming up! If you’re interested in being on the OSY Team – follow up here>>>
URL:https://oslc.org.au/event/osy-leaders-4/2025-09-22/
LOCATION:Doorways
CATEGORIES:Care,GROWING,Life Stages,Service,Teenagers,Young Adults
ATTACH;FMTTYPE=image/png:https://oslc.org.au/wp-content/uploads/2023/08/OSY-Presentation-169-2.png
END:VEVENT
END:VCALENDAR