BEGIN:VCALENDAR
VERSION:2.0
PRODID:-//Our Saviour Lutheran Church Rochedale - ECPv6.4.0.1//NONSGML v1.0//EN
CALSCALE:GREGORIAN
METHOD:PUBLISH
X-ORIGINAL-URL:https://oslc.org.au
X-WR-CALDESC:Events for Our Saviour Lutheran Church Rochedale
REFRESH-INTERVAL;VALUE=DURATION:PT1H
X-Robots-Tag:noindex
X-PUBLISHED-TTL:PT1H
BEGIN:VTIMEZONE
TZID:Australia/Brisbane
BEGIN:STANDARD
TZOFFSETFROM:+1000
TZOFFSETTO:+1000
TZNAME:AEST
DTSTART:20250101T000000
END:STANDARD
END:VTIMEZONE
BEGIN:VEVENT
DTSTART;VALUE=DATE:20250922
DTEND;VALUE=DATE:20250926
DTSTAMP:20260423T061947
CREATED:20230810T031702Z
LAST-MODIFIED:20240510T001403Z
UID:10004448-1758499200-1758844799@oslc.org.au
SUMMARY:LYQ Spring CLW Central Qld
DESCRIPTION:Lutheran Youth of Queensland run a number of camps and events throughout Queensland for children and youth. Check out the link for more information.
URL:https://oslc.org.au/event/lyq-spring-clw-central-qld/2025-09-22/
CATEGORIES:Exploring Faith,Life Stages,LYQ,Teenagers
ATTACH;FMTTYPE=image/png:https://oslc.org.au/wp-content/uploads/2023/08/Screenshot-2023-08-31-at-1.07.27-pm-e1693451674296.png
END:VEVENT
BEGIN:VEVENT
DTSTART;TZID=Australia/Brisbane:20250924T085000
DTEND;TZID=Australia/Brisbane:20250924T093000
DTSTAMP:20260423T061947
CREATED:20240509T052624Z
LAST-MODIFIED:20240517T060247Z
UID:10007474-1758703800-1758706200@oslc.org.au
SUMMARY:Wednesday Chapel Morning Tea
DESCRIPTION:Following Wednesday morning junior school chapel\, Our Saviour hosts a morning tea for parents and friends. Join us for a cuppa and some time for connection as we get to know each other!
URL:https://oslc.org.au/event/wednesday-chapel-morning-tea-2/2025-09-24/
CATEGORIES:Community Events,GROWING,Hospitality,Service,Serving the Community
END:VEVENT
BEGIN:VEVENT
DTSTART;TZID=Australia/Brisbane:20250924T091500
DTEND;TZID=Australia/Brisbane:20250924T101500
DTSTAMP:20260423T061947
CREATED:20230905T042836Z
LAST-MODIFIED:20240510T003040Z
UID:10006774-1758705300-1758708900@oslc.org.au
SUMMARY:Wednesday Prayers
DESCRIPTION:
URL:https://oslc.org.au/event/wednesday-prayers/2025-09-24/
CATEGORIES:All Ages,Exploring Faith,GROUPS,GROWING,Prayer
END:VEVENT
END:VCALENDAR