BEGIN:VCALENDAR
VERSION:2.0
PRODID:-//Our Saviour Lutheran Church Rochedale - ECPv6.4.0.1//NONSGML v1.0//EN
CALSCALE:GREGORIAN
METHOD:PUBLISH
X-WR-CALNAME:Our Saviour Lutheran Church Rochedale
X-ORIGINAL-URL:https://oslc.org.au
X-WR-CALDESC:Events for Our Saviour Lutheran Church Rochedale
REFRESH-INTERVAL;VALUE=DURATION:PT1H
X-Robots-Tag:noindex
X-PUBLISHED-TTL:PT1H
BEGIN:VTIMEZONE
TZID:Australia/Brisbane
BEGIN:STANDARD
TZOFFSETFROM:+1000
TZOFFSETTO:+1000
TZNAME:AEST
DTSTART:20270101T000000
END:STANDARD
END:VTIMEZONE
BEGIN:VEVENT
DTSTART;VALUE=DATE:20271225
DTEND;VALUE=DATE:20271226
DTSTAMP:20260421T142817
CREATED:20230905T030747Z
LAST-MODIFIED:20230905T031523Z
UID:10005871-1829692800-1829779199@oslc.org.au
SUMMARY:Christmas Day
DESCRIPTION:
URL:https://oslc.org.au/event/christmas-day/2027-12-25/
END:VEVENT
BEGIN:VEVENT
DTSTART;TZID=Australia/Brisbane:20271225T063000
DTEND;TZID=Australia/Brisbane:20271225T083000
DTSTAMP:20260421T142817
CREATED:20230831T042252Z
LAST-MODIFIED:20240510T011933Z
UID:10005480-1829716200-1829723400@oslc.org.au
SUMMARY:Men's Prayer Breakfast
DESCRIPTION:Every week these blokes get together for breakfast and prayer for needs in the community.
URL:https://oslc.org.au/event/mens-prayer-breakfast/2027-12-25/
CATEGORIES:Exploring Faith,GROUPS,GROWING,Home Group,Life Stages,Men,Prayer
END:VEVENT
BEGIN:VEVENT
DTSTART;TZID=Australia/Brisbane:20271225T063000
DTEND;TZID=Australia/Brisbane:20271225T083000
DTSTAMP:20260421T142817
CREATED:20230831T042446Z
LAST-MODIFIED:20240510T011656Z
UID:10005276-1829716200-1829723400@oslc.org.au
SUMMARY:Men's Bible Study Breakfast
DESCRIPTION:This group meets weekly as a bunch of blokes to study God’s word. The venue changes week by week so contact the office it you’d like to know more.
URL:https://oslc.org.au/event/mens-bible-study-breakfast/2027-12-25/
CATEGORIES:Exploring Faith,Home Group,Men
END:VEVENT
END:VCALENDAR