BEGIN:VCALENDAR
VERSION:2.0
PRODID:-//Our Saviour Lutheran Church Rochedale - ECPv6.4.0.1//NONSGML v1.0//EN
CALSCALE:GREGORIAN
METHOD:PUBLISH
X-ORIGINAL-URL:https://oslc.org.au
X-WR-CALDESC:Events for Our Saviour Lutheran Church Rochedale
REFRESH-INTERVAL;VALUE=DURATION:PT1H
X-Robots-Tag:noindex
X-PUBLISHED-TTL:PT1H
BEGIN:VTIMEZONE
TZID:Australia/Brisbane
BEGIN:STANDARD
TZOFFSETFROM:+1000
TZOFFSETTO:+1000
TZNAME:AEST
DTSTART:20280101T000000
END:STANDARD
END:VTIMEZONE
BEGIN:VEVENT
DTSTART;TZID=Australia/Brisbane:20281126T083000
DTEND;TZID=Australia/Brisbane:20281126T094500
DTSTAMP:20260426T083606
CREATED:20230810T031501Z
LAST-MODIFIED:20240517T060727Z
UID:10007811-1858840200-1858844700@oslc.org.au
SUMMARY:Sunday Morning Worship
DESCRIPTION:Worship is at the core of being a family of believers as we acknowledge and worship the Triune God; Father\, Son and Holy Spirit. Our worship is family friendly and demonstrates our efforts towards ‘growing young’. \nWe live stream our worship to our Facebook page each Sunday www.facebook.com/OurSaviour
URL:https://oslc.org.au/event/sunday-morning-worship/2028-11-26/
LOCATION:Redeemer Chapel\, 745 Rochedale Rd.\, Rochedale\, Redeemer Lutheran College\, Rochedale
CATEGORIES:All Ages,Children,Community Events,Exploring Faith,GROWING,Life Stages,Men,Music,Pre-schoolers,Retirees,Teenagers,Women,Worship,Young Adults
ATTACH;FMTTYPE=image/jpeg:https://oslc.org.au/wp-content/uploads/2023/08/MG_4843-2-Copy-scaled-e1692257469878.jpg
END:VEVENT
BEGIN:VEVENT
DTSTART;TZID=Australia/Brisbane:20281203T083000
DTEND;TZID=Australia/Brisbane:20281203T094500
DTSTAMP:20260426T083606
CREATED:20230810T031501Z
LAST-MODIFIED:20240517T060727Z
UID:10007812-1859445000-1859449500@oslc.org.au
SUMMARY:Sunday Morning Worship
DESCRIPTION:Worship is at the core of being a family of believers as we acknowledge and worship the Triune God; Father\, Son and Holy Spirit. Our worship is family friendly and demonstrates our efforts towards ‘growing young’. \nWe live stream our worship to our Facebook page each Sunday www.facebook.com/OurSaviour
URL:https://oslc.org.au/event/sunday-morning-worship/2028-12-03/
LOCATION:Redeemer Chapel\, 745 Rochedale Rd.\, Rochedale\, Redeemer Lutheran College\, Rochedale
CATEGORIES:All Ages,Children,Community Events,Exploring Faith,GROWING,Life Stages,Men,Music,Pre-schoolers,Retirees,Teenagers,Women,Worship,Young Adults
ATTACH;FMTTYPE=image/jpeg:https://oslc.org.au/wp-content/uploads/2023/08/MG_4843-2-Copy-scaled-e1692257469878.jpg
END:VEVENT
BEGIN:VEVENT
DTSTART;TZID=Australia/Brisbane:20281210T083000
DTEND;TZID=Australia/Brisbane:20281210T094500
DTSTAMP:20260426T083606
CREATED:20230810T031501Z
LAST-MODIFIED:20240517T060727Z
UID:10007813-1860049800-1860054300@oslc.org.au
SUMMARY:Sunday Morning Worship
DESCRIPTION:Worship is at the core of being a family of believers as we acknowledge and worship the Triune God; Father\, Son and Holy Spirit. Our worship is family friendly and demonstrates our efforts towards ‘growing young’. \nWe live stream our worship to our Facebook page each Sunday www.facebook.com/OurSaviour
URL:https://oslc.org.au/event/sunday-morning-worship/2028-12-10/
LOCATION:Redeemer Chapel\, 745 Rochedale Rd.\, Rochedale\, Redeemer Lutheran College\, Rochedale
CATEGORIES:All Ages,Children,Community Events,Exploring Faith,GROWING,Life Stages,Men,Music,Pre-schoolers,Retirees,Teenagers,Women,Worship,Young Adults
ATTACH;FMTTYPE=image/jpeg:https://oslc.org.au/wp-content/uploads/2023/08/MG_4843-2-Copy-scaled-e1692257469878.jpg
END:VEVENT
BEGIN:VEVENT
DTSTART;TZID=Australia/Brisbane:20281217T083000
DTEND;TZID=Australia/Brisbane:20281217T094500
DTSTAMP:20260426T083606
CREATED:20230810T031501Z
LAST-MODIFIED:20240517T060727Z
UID:10007814-1860654600-1860659100@oslc.org.au
SUMMARY:Sunday Morning Worship
DESCRIPTION:Worship is at the core of being a family of believers as we acknowledge and worship the Triune God; Father\, Son and Holy Spirit. Our worship is family friendly and demonstrates our efforts towards ‘growing young’. \nWe live stream our worship to our Facebook page each Sunday www.facebook.com/OurSaviour
URL:https://oslc.org.au/event/sunday-morning-worship/2028-12-17/
LOCATION:Redeemer Chapel\, 745 Rochedale Rd.\, Rochedale\, Redeemer Lutheran College\, Rochedale
CATEGORIES:All Ages,Children,Community Events,Exploring Faith,GROWING,Life Stages,Men,Music,Pre-schoolers,Retirees,Teenagers,Women,Worship,Young Adults
ATTACH;FMTTYPE=image/jpeg:https://oslc.org.au/wp-content/uploads/2023/08/MG_4843-2-Copy-scaled-e1692257469878.jpg
END:VEVENT
BEGIN:VEVENT
DTSTART;TZID=Australia/Brisbane:20281224T083000
DTEND;TZID=Australia/Brisbane:20281224T094500
DTSTAMP:20260426T083606
CREATED:20230810T031501Z
LAST-MODIFIED:20240517T060727Z
UID:10007815-1861259400-1861263900@oslc.org.au
SUMMARY:Sunday Morning Worship
DESCRIPTION:Worship is at the core of being a family of believers as we acknowledge and worship the Triune God; Father\, Son and Holy Spirit. Our worship is family friendly and demonstrates our efforts towards ‘growing young’. \nWe live stream our worship to our Facebook page each Sunday www.facebook.com/OurSaviour
URL:https://oslc.org.au/event/sunday-morning-worship/2028-12-24/
LOCATION:Redeemer Chapel\, 745 Rochedale Rd.\, Rochedale\, Redeemer Lutheran College\, Rochedale
CATEGORIES:All Ages,Children,Community Events,Exploring Faith,GROWING,Life Stages,Men,Music,Pre-schoolers,Retirees,Teenagers,Women,Worship,Young Adults
ATTACH;FMTTYPE=image/jpeg:https://oslc.org.au/wp-content/uploads/2023/08/MG_4843-2-Copy-scaled-e1692257469878.jpg
END:VEVENT
BEGIN:VEVENT
DTSTART;TZID=Australia/Brisbane:20281231T083000
DTEND;TZID=Australia/Brisbane:20281231T094500
DTSTAMP:20260426T083606
CREATED:20230810T031501Z
LAST-MODIFIED:20240517T060727Z
UID:10007816-1861864200-1861868700@oslc.org.au
SUMMARY:Sunday Morning Worship
DESCRIPTION:Worship is at the core of being a family of believers as we acknowledge and worship the Triune God; Father\, Son and Holy Spirit. Our worship is family friendly and demonstrates our efforts towards ‘growing young’. \nWe live stream our worship to our Facebook page each Sunday www.facebook.com/OurSaviour
URL:https://oslc.org.au/event/sunday-morning-worship/2028-12-31/
LOCATION:Redeemer Chapel\, 745 Rochedale Rd.\, Rochedale\, Redeemer Lutheran College\, Rochedale
CATEGORIES:All Ages,Children,Community Events,Exploring Faith,GROWING,Life Stages,Men,Music,Pre-schoolers,Retirees,Teenagers,Women,Worship,Young Adults
ATTACH;FMTTYPE=image/jpeg:https://oslc.org.au/wp-content/uploads/2023/08/MG_4843-2-Copy-scaled-e1692257469878.jpg
END:VEVENT
BEGIN:VEVENT
DTSTART;TZID=Australia/Brisbane:20290107T083000
DTEND;TZID=Australia/Brisbane:20290107T094500
DTSTAMP:20260426T083606
CREATED:20230810T031501Z
LAST-MODIFIED:20240517T060727Z
UID:10007817-1862469000-1862473500@oslc.org.au
SUMMARY:Sunday Morning Worship
DESCRIPTION:Worship is at the core of being a family of believers as we acknowledge and worship the Triune God; Father\, Son and Holy Spirit. Our worship is family friendly and demonstrates our efforts towards ‘growing young’. \nWe live stream our worship to our Facebook page each Sunday www.facebook.com/OurSaviour
URL:https://oslc.org.au/event/sunday-morning-worship/2029-01-07/
LOCATION:Redeemer Chapel\, 745 Rochedale Rd.\, Rochedale\, Redeemer Lutheran College\, Rochedale
CATEGORIES:All Ages,Children,Community Events,Exploring Faith,GROWING,Life Stages,Men,Music,Pre-schoolers,Retirees,Teenagers,Women,Worship,Young Adults
ATTACH;FMTTYPE=image/jpeg:https://oslc.org.au/wp-content/uploads/2023/08/MG_4843-2-Copy-scaled-e1692257469878.jpg
END:VEVENT
BEGIN:VEVENT
DTSTART;TZID=Australia/Brisbane:20290114T083000
DTEND;TZID=Australia/Brisbane:20290114T094500
DTSTAMP:20260426T083606
CREATED:20230810T031501Z
LAST-MODIFIED:20240517T060727Z
UID:10007818-1863073800-1863078300@oslc.org.au
SUMMARY:Sunday Morning Worship
DESCRIPTION:Worship is at the core of being a family of believers as we acknowledge and worship the Triune God; Father\, Son and Holy Spirit. Our worship is family friendly and demonstrates our efforts towards ‘growing young’. \nWe live stream our worship to our Facebook page each Sunday www.facebook.com/OurSaviour
URL:https://oslc.org.au/event/sunday-morning-worship/2029-01-14/
LOCATION:Redeemer Chapel\, 745 Rochedale Rd.\, Rochedale\, Redeemer Lutheran College\, Rochedale
CATEGORIES:All Ages,Children,Community Events,Exploring Faith,GROWING,Life Stages,Men,Music,Pre-schoolers,Retirees,Teenagers,Women,Worship,Young Adults
ATTACH;FMTTYPE=image/jpeg:https://oslc.org.au/wp-content/uploads/2023/08/MG_4843-2-Copy-scaled-e1692257469878.jpg
END:VEVENT
BEGIN:VEVENT
DTSTART;TZID=Australia/Brisbane:20290121T083000
DTEND;TZID=Australia/Brisbane:20290121T094500
DTSTAMP:20260426T083606
CREATED:20230810T031501Z
LAST-MODIFIED:20240517T060727Z
UID:10007819-1863678600-1863683100@oslc.org.au
SUMMARY:Sunday Morning Worship
DESCRIPTION:Worship is at the core of being a family of believers as we acknowledge and worship the Triune God; Father\, Son and Holy Spirit. Our worship is family friendly and demonstrates our efforts towards ‘growing young’. \nWe live stream our worship to our Facebook page each Sunday www.facebook.com/OurSaviour
URL:https://oslc.org.au/event/sunday-morning-worship/2029-01-21/
LOCATION:Redeemer Chapel\, 745 Rochedale Rd.\, Rochedale\, Redeemer Lutheran College\, Rochedale
CATEGORIES:All Ages,Children,Community Events,Exploring Faith,GROWING,Life Stages,Men,Music,Pre-schoolers,Retirees,Teenagers,Women,Worship,Young Adults
ATTACH;FMTTYPE=image/jpeg:https://oslc.org.au/wp-content/uploads/2023/08/MG_4843-2-Copy-scaled-e1692257469878.jpg
END:VEVENT
BEGIN:VEVENT
DTSTART;TZID=Australia/Brisbane:20290128T083000
DTEND;TZID=Australia/Brisbane:20290128T094500
DTSTAMP:20260426T083606
CREATED:20230810T031501Z
LAST-MODIFIED:20240517T060727Z
UID:10007820-1864283400-1864287900@oslc.org.au
SUMMARY:Sunday Morning Worship
DESCRIPTION:Worship is at the core of being a family of believers as we acknowledge and worship the Triune God; Father\, Son and Holy Spirit. Our worship is family friendly and demonstrates our efforts towards ‘growing young’. \nWe live stream our worship to our Facebook page each Sunday www.facebook.com/OurSaviour
URL:https://oslc.org.au/event/sunday-morning-worship/2029-01-28/
LOCATION:Redeemer Chapel\, 745 Rochedale Rd.\, Rochedale\, Redeemer Lutheran College\, Rochedale
CATEGORIES:All Ages,Children,Community Events,Exploring Faith,GROWING,Life Stages,Men,Music,Pre-schoolers,Retirees,Teenagers,Women,Worship,Young Adults
ATTACH;FMTTYPE=image/jpeg:https://oslc.org.au/wp-content/uploads/2023/08/MG_4843-2-Copy-scaled-e1692257469878.jpg
END:VEVENT
BEGIN:VEVENT
DTSTART;TZID=Australia/Brisbane:20290204T083000
DTEND;TZID=Australia/Brisbane:20290204T094500
DTSTAMP:20260426T083606
CREATED:20230810T031501Z
LAST-MODIFIED:20240517T060727Z
UID:10007821-1864888200-1864892700@oslc.org.au
SUMMARY:Sunday Morning Worship
DESCRIPTION:Worship is at the core of being a family of believers as we acknowledge and worship the Triune God; Father\, Son and Holy Spirit. Our worship is family friendly and demonstrates our efforts towards ‘growing young’. \nWe live stream our worship to our Facebook page each Sunday www.facebook.com/OurSaviour
URL:https://oslc.org.au/event/sunday-morning-worship/2029-02-04/
LOCATION:Redeemer Chapel\, 745 Rochedale Rd.\, Rochedale\, Redeemer Lutheran College\, Rochedale
CATEGORIES:All Ages,Children,Community Events,Exploring Faith,GROWING,Life Stages,Men,Music,Pre-schoolers,Retirees,Teenagers,Women,Worship,Young Adults
ATTACH;FMTTYPE=image/jpeg:https://oslc.org.au/wp-content/uploads/2023/08/MG_4843-2-Copy-scaled-e1692257469878.jpg
END:VEVENT
BEGIN:VEVENT
DTSTART;TZID=Australia/Brisbane:20290211T083000
DTEND;TZID=Australia/Brisbane:20290211T094500
DTSTAMP:20260426T083606
CREATED:20230810T031501Z
LAST-MODIFIED:20240517T060727Z
UID:10007822-1865493000-1865497500@oslc.org.au
SUMMARY:Sunday Morning Worship
DESCRIPTION:Worship is at the core of being a family of believers as we acknowledge and worship the Triune God; Father\, Son and Holy Spirit. Our worship is family friendly and demonstrates our efforts towards ‘growing young’. \nWe live stream our worship to our Facebook page each Sunday www.facebook.com/OurSaviour
URL:https://oslc.org.au/event/sunday-morning-worship/2029-02-11/
LOCATION:Redeemer Chapel\, 745 Rochedale Rd.\, Rochedale\, Redeemer Lutheran College\, Rochedale
CATEGORIES:All Ages,Children,Community Events,Exploring Faith,GROWING,Life Stages,Men,Music,Pre-schoolers,Retirees,Teenagers,Women,Worship,Young Adults
ATTACH;FMTTYPE=image/jpeg:https://oslc.org.au/wp-content/uploads/2023/08/MG_4843-2-Copy-scaled-e1692257469878.jpg
END:VEVENT
BEGIN:VEVENT
DTSTART;TZID=Australia/Brisbane:20290218T083000
DTEND;TZID=Australia/Brisbane:20290218T094500
DTSTAMP:20260426T083606
CREATED:20230810T031501Z
LAST-MODIFIED:20240517T060727Z
UID:10007823-1866097800-1866102300@oslc.org.au
SUMMARY:Sunday Morning Worship
DESCRIPTION:Worship is at the core of being a family of believers as we acknowledge and worship the Triune God; Father\, Son and Holy Spirit. Our worship is family friendly and demonstrates our efforts towards ‘growing young’. \nWe live stream our worship to our Facebook page each Sunday www.facebook.com/OurSaviour
URL:https://oslc.org.au/event/sunday-morning-worship/2029-02-18/
LOCATION:Redeemer Chapel\, 745 Rochedale Rd.\, Rochedale\, Redeemer Lutheran College\, Rochedale
CATEGORIES:All Ages,Children,Community Events,Exploring Faith,GROWING,Life Stages,Men,Music,Pre-schoolers,Retirees,Teenagers,Women,Worship,Young Adults
ATTACH;FMTTYPE=image/jpeg:https://oslc.org.au/wp-content/uploads/2023/08/MG_4843-2-Copy-scaled-e1692257469878.jpg
END:VEVENT
BEGIN:VEVENT
DTSTART;TZID=Australia/Brisbane:20290225T083000
DTEND;TZID=Australia/Brisbane:20290225T094500
DTSTAMP:20260426T083606
CREATED:20230810T031501Z
LAST-MODIFIED:20240517T060727Z
UID:10007824-1866702600-1866707100@oslc.org.au
SUMMARY:Sunday Morning Worship
DESCRIPTION:Worship is at the core of being a family of believers as we acknowledge and worship the Triune God; Father\, Son and Holy Spirit. Our worship is family friendly and demonstrates our efforts towards ‘growing young’. \nWe live stream our worship to our Facebook page each Sunday www.facebook.com/OurSaviour
URL:https://oslc.org.au/event/sunday-morning-worship/2029-02-25/
LOCATION:Redeemer Chapel\, 745 Rochedale Rd.\, Rochedale\, Redeemer Lutheran College\, Rochedale
CATEGORIES:All Ages,Children,Community Events,Exploring Faith,GROWING,Life Stages,Men,Music,Pre-schoolers,Retirees,Teenagers,Women,Worship,Young Adults
ATTACH;FMTTYPE=image/jpeg:https://oslc.org.au/wp-content/uploads/2023/08/MG_4843-2-Copy-scaled-e1692257469878.jpg
END:VEVENT
BEGIN:VEVENT
DTSTART;TZID=Australia/Brisbane:20290304T083000
DTEND;TZID=Australia/Brisbane:20290304T094500
DTSTAMP:20260426T083606
CREATED:20230810T031501Z
LAST-MODIFIED:20240517T060727Z
UID:10007825-1867307400-1867311900@oslc.org.au
SUMMARY:Sunday Morning Worship
DESCRIPTION:Worship is at the core of being a family of believers as we acknowledge and worship the Triune God; Father\, Son and Holy Spirit. Our worship is family friendly and demonstrates our efforts towards ‘growing young’. \nWe live stream our worship to our Facebook page each Sunday www.facebook.com/OurSaviour
URL:https://oslc.org.au/event/sunday-morning-worship/2029-03-04/
LOCATION:Redeemer Chapel\, 745 Rochedale Rd.\, Rochedale\, Redeemer Lutheran College\, Rochedale
CATEGORIES:All Ages,Children,Community Events,Exploring Faith,GROWING,Life Stages,Men,Music,Pre-schoolers,Retirees,Teenagers,Women,Worship,Young Adults
ATTACH;FMTTYPE=image/jpeg:https://oslc.org.au/wp-content/uploads/2023/08/MG_4843-2-Copy-scaled-e1692257469878.jpg
END:VEVENT
BEGIN:VEVENT
DTSTART;TZID=Australia/Brisbane:20290311T083000
DTEND;TZID=Australia/Brisbane:20290311T094500
DTSTAMP:20260426T083606
CREATED:20230810T031501Z
LAST-MODIFIED:20240517T060727Z
UID:10007826-1867912200-1867916700@oslc.org.au
SUMMARY:Sunday Morning Worship
DESCRIPTION:Worship is at the core of being a family of believers as we acknowledge and worship the Triune God; Father\, Son and Holy Spirit. Our worship is family friendly and demonstrates our efforts towards ‘growing young’. \nWe live stream our worship to our Facebook page each Sunday www.facebook.com/OurSaviour
URL:https://oslc.org.au/event/sunday-morning-worship/2029-03-11/
LOCATION:Redeemer Chapel\, 745 Rochedale Rd.\, Rochedale\, Redeemer Lutheran College\, Rochedale
CATEGORIES:All Ages,Children,Community Events,Exploring Faith,GROWING,Life Stages,Men,Music,Pre-schoolers,Retirees,Teenagers,Women,Worship,Young Adults
ATTACH;FMTTYPE=image/jpeg:https://oslc.org.au/wp-content/uploads/2023/08/MG_4843-2-Copy-scaled-e1692257469878.jpg
END:VEVENT
BEGIN:VEVENT
DTSTART;TZID=Australia/Brisbane:20290318T083000
DTEND;TZID=Australia/Brisbane:20290318T094500
DTSTAMP:20260426T083606
CREATED:20230810T031501Z
LAST-MODIFIED:20240517T060727Z
UID:10007827-1868517000-1868521500@oslc.org.au
SUMMARY:Sunday Morning Worship
DESCRIPTION:Worship is at the core of being a family of believers as we acknowledge and worship the Triune God; Father\, Son and Holy Spirit. Our worship is family friendly and demonstrates our efforts towards ‘growing young’. \nWe live stream our worship to our Facebook page each Sunday www.facebook.com/OurSaviour
URL:https://oslc.org.au/event/sunday-morning-worship/2029-03-18/
LOCATION:Redeemer Chapel\, 745 Rochedale Rd.\, Rochedale\, Redeemer Lutheran College\, Rochedale
CATEGORIES:All Ages,Children,Community Events,Exploring Faith,GROWING,Life Stages,Men,Music,Pre-schoolers,Retirees,Teenagers,Women,Worship,Young Adults
ATTACH;FMTTYPE=image/jpeg:https://oslc.org.au/wp-content/uploads/2023/08/MG_4843-2-Copy-scaled-e1692257469878.jpg
END:VEVENT
BEGIN:VEVENT
DTSTART;TZID=Australia/Brisbane:20290325T083000
DTEND;TZID=Australia/Brisbane:20290325T094500
DTSTAMP:20260426T083606
CREATED:20230810T031501Z
LAST-MODIFIED:20240517T060727Z
UID:10007828-1869121800-1869126300@oslc.org.au
SUMMARY:Sunday Morning Worship
DESCRIPTION:Worship is at the core of being a family of believers as we acknowledge and worship the Triune God; Father\, Son and Holy Spirit. Our worship is family friendly and demonstrates our efforts towards ‘growing young’. \nWe live stream our worship to our Facebook page each Sunday www.facebook.com/OurSaviour
URL:https://oslc.org.au/event/sunday-morning-worship/2029-03-25/
LOCATION:Redeemer Chapel\, 745 Rochedale Rd.\, Rochedale\, Redeemer Lutheran College\, Rochedale
CATEGORIES:All Ages,Children,Community Events,Exploring Faith,GROWING,Life Stages,Men,Music,Pre-schoolers,Retirees,Teenagers,Women,Worship,Young Adults
ATTACH;FMTTYPE=image/jpeg:https://oslc.org.au/wp-content/uploads/2023/08/MG_4843-2-Copy-scaled-e1692257469878.jpg
END:VEVENT
BEGIN:VEVENT
DTSTART;TZID=Australia/Brisbane:20290401T083000
DTEND;TZID=Australia/Brisbane:20290401T094500
DTSTAMP:20260426T083606
CREATED:20230810T031501Z
LAST-MODIFIED:20240517T060727Z
UID:10007829-1869726600-1869731100@oslc.org.au
SUMMARY:Sunday Morning Worship
DESCRIPTION:Worship is at the core of being a family of believers as we acknowledge and worship the Triune God; Father\, Son and Holy Spirit. Our worship is family friendly and demonstrates our efforts towards ‘growing young’. \nWe live stream our worship to our Facebook page each Sunday www.facebook.com/OurSaviour
URL:https://oslc.org.au/event/sunday-morning-worship/2029-04-01/
LOCATION:Redeemer Chapel\, 745 Rochedale Rd.\, Rochedale\, Redeemer Lutheran College\, Rochedale
CATEGORIES:All Ages,Children,Community Events,Exploring Faith,GROWING,Life Stages,Men,Music,Pre-schoolers,Retirees,Teenagers,Women,Worship,Young Adults
ATTACH;FMTTYPE=image/jpeg:https://oslc.org.au/wp-content/uploads/2023/08/MG_4843-2-Copy-scaled-e1692257469878.jpg
END:VEVENT
BEGIN:VEVENT
DTSTART;TZID=Australia/Brisbane:20290408T083000
DTEND;TZID=Australia/Brisbane:20290408T094500
DTSTAMP:20260426T083606
CREATED:20230810T031501Z
LAST-MODIFIED:20240517T060727Z
UID:10007830-1870331400-1870335900@oslc.org.au
SUMMARY:Sunday Morning Worship
DESCRIPTION:Worship is at the core of being a family of believers as we acknowledge and worship the Triune God; Father\, Son and Holy Spirit. Our worship is family friendly and demonstrates our efforts towards ‘growing young’. \nWe live stream our worship to our Facebook page each Sunday www.facebook.com/OurSaviour
URL:https://oslc.org.au/event/sunday-morning-worship/2029-04-08/
LOCATION:Redeemer Chapel\, 745 Rochedale Rd.\, Rochedale\, Redeemer Lutheran College\, Rochedale
CATEGORIES:All Ages,Children,Community Events,Exploring Faith,GROWING,Life Stages,Men,Music,Pre-schoolers,Retirees,Teenagers,Women,Worship,Young Adults
ATTACH;FMTTYPE=image/jpeg:https://oslc.org.au/wp-content/uploads/2023/08/MG_4843-2-Copy-scaled-e1692257469878.jpg
END:VEVENT
BEGIN:VEVENT
DTSTART;TZID=Australia/Brisbane:20290415T083000
DTEND;TZID=Australia/Brisbane:20290415T094500
DTSTAMP:20260426T083606
CREATED:20230810T031501Z
LAST-MODIFIED:20240517T060727Z
UID:10007831-1870936200-1870940700@oslc.org.au
SUMMARY:Sunday Morning Worship
DESCRIPTION:Worship is at the core of being a family of believers as we acknowledge and worship the Triune God; Father\, Son and Holy Spirit. Our worship is family friendly and demonstrates our efforts towards ‘growing young’. \nWe live stream our worship to our Facebook page each Sunday www.facebook.com/OurSaviour
URL:https://oslc.org.au/event/sunday-morning-worship/2029-04-15/
LOCATION:Redeemer Chapel\, 745 Rochedale Rd.\, Rochedale\, Redeemer Lutheran College\, Rochedale
CATEGORIES:All Ages,Children,Community Events,Exploring Faith,GROWING,Life Stages,Men,Music,Pre-schoolers,Retirees,Teenagers,Women,Worship,Young Adults
ATTACH;FMTTYPE=image/jpeg:https://oslc.org.au/wp-content/uploads/2023/08/MG_4843-2-Copy-scaled-e1692257469878.jpg
END:VEVENT
BEGIN:VEVENT
DTSTART;TZID=Australia/Brisbane:20290422T083000
DTEND;TZID=Australia/Brisbane:20290422T094500
DTSTAMP:20260426T083606
CREATED:20230810T031501Z
LAST-MODIFIED:20240517T060727Z
UID:10007832-1871541000-1871545500@oslc.org.au
SUMMARY:Sunday Morning Worship
DESCRIPTION:Worship is at the core of being a family of believers as we acknowledge and worship the Triune God; Father\, Son and Holy Spirit. Our worship is family friendly and demonstrates our efforts towards ‘growing young’. \nWe live stream our worship to our Facebook page each Sunday www.facebook.com/OurSaviour
URL:https://oslc.org.au/event/sunday-morning-worship/2029-04-22/
LOCATION:Redeemer Chapel\, 745 Rochedale Rd.\, Rochedale\, Redeemer Lutheran College\, Rochedale
CATEGORIES:All Ages,Children,Community Events,Exploring Faith,GROWING,Life Stages,Men,Music,Pre-schoolers,Retirees,Teenagers,Women,Worship,Young Adults
ATTACH;FMTTYPE=image/jpeg:https://oslc.org.au/wp-content/uploads/2023/08/MG_4843-2-Copy-scaled-e1692257469878.jpg
END:VEVENT
BEGIN:VEVENT
DTSTART;TZID=Australia/Brisbane:20290429T083000
DTEND;TZID=Australia/Brisbane:20290429T094500
DTSTAMP:20260426T083606
CREATED:20230810T031501Z
LAST-MODIFIED:20240517T060727Z
UID:10007833-1872145800-1872150300@oslc.org.au
SUMMARY:Sunday Morning Worship
DESCRIPTION:Worship is at the core of being a family of believers as we acknowledge and worship the Triune God; Father\, Son and Holy Spirit. Our worship is family friendly and demonstrates our efforts towards ‘growing young’. \nWe live stream our worship to our Facebook page each Sunday www.facebook.com/OurSaviour
URL:https://oslc.org.au/event/sunday-morning-worship/2029-04-29/
LOCATION:Redeemer Chapel\, 745 Rochedale Rd.\, Rochedale\, Redeemer Lutheran College\, Rochedale
CATEGORIES:All Ages,Children,Community Events,Exploring Faith,GROWING,Life Stages,Men,Music,Pre-schoolers,Retirees,Teenagers,Women,Worship,Young Adults
ATTACH;FMTTYPE=image/jpeg:https://oslc.org.au/wp-content/uploads/2023/08/MG_4843-2-Copy-scaled-e1692257469878.jpg
END:VEVENT
BEGIN:VEVENT
DTSTART;TZID=Australia/Brisbane:20290506T083000
DTEND;TZID=Australia/Brisbane:20290506T094500
DTSTAMP:20260426T083606
CREATED:20230810T031501Z
LAST-MODIFIED:20240517T060727Z
UID:10007834-1872750600-1872755100@oslc.org.au
SUMMARY:Sunday Morning Worship
DESCRIPTION:Worship is at the core of being a family of believers as we acknowledge and worship the Triune God; Father\, Son and Holy Spirit. Our worship is family friendly and demonstrates our efforts towards ‘growing young’. \nWe live stream our worship to our Facebook page each Sunday www.facebook.com/OurSaviour
URL:https://oslc.org.au/event/sunday-morning-worship/2029-05-06/
LOCATION:Redeemer Chapel\, 745 Rochedale Rd.\, Rochedale\, Redeemer Lutheran College\, Rochedale
CATEGORIES:All Ages,Children,Community Events,Exploring Faith,GROWING,Life Stages,Men,Music,Pre-schoolers,Retirees,Teenagers,Women,Worship,Young Adults
ATTACH;FMTTYPE=image/jpeg:https://oslc.org.au/wp-content/uploads/2023/08/MG_4843-2-Copy-scaled-e1692257469878.jpg
END:VEVENT
BEGIN:VEVENT
DTSTART;TZID=Australia/Brisbane:20290513T083000
DTEND;TZID=Australia/Brisbane:20290513T094500
DTSTAMP:20260426T083606
CREATED:20230810T031501Z
LAST-MODIFIED:20240517T060727Z
UID:10007835-1873355400-1873359900@oslc.org.au
SUMMARY:Sunday Morning Worship
DESCRIPTION:Worship is at the core of being a family of believers as we acknowledge and worship the Triune God; Father\, Son and Holy Spirit. Our worship is family friendly and demonstrates our efforts towards ‘growing young’. \nWe live stream our worship to our Facebook page each Sunday www.facebook.com/OurSaviour
URL:https://oslc.org.au/event/sunday-morning-worship/2029-05-13/
LOCATION:Redeemer Chapel\, 745 Rochedale Rd.\, Rochedale\, Redeemer Lutheran College\, Rochedale
CATEGORIES:All Ages,Children,Community Events,Exploring Faith,GROWING,Life Stages,Men,Music,Pre-schoolers,Retirees,Teenagers,Women,Worship,Young Adults
ATTACH;FMTTYPE=image/jpeg:https://oslc.org.au/wp-content/uploads/2023/08/MG_4843-2-Copy-scaled-e1692257469878.jpg
END:VEVENT
BEGIN:VEVENT
DTSTART;TZID=Australia/Brisbane:20291028T101500
DTEND;TZID=Australia/Brisbane:20291028T123000
DTSTAMP:20260426T083606
CREATED:20241014T051451Z
LAST-MODIFIED:20241014T051452Z
UID:10007844-1887876900-1887885000@oslc.org.au
SUMMARY:OSLC Half-Yearly General Meeting
DESCRIPTION:Our Saviour has a General Meeting twice a year. The annual meeting\, generally held on the first weekend of March elects the officers of our congregation and the main business for the half-year meeting is approval of the congregation budget for the following year. Both meetings will also discuss other business pertinent to the time.
URL:https://oslc.org.au/event/oslc-half-yearly-general-meeting-2/2029-10-28/
CATEGORIES:Administration,Community Events,GROUPS,Interests & Passions,Serving the Community
END:VEVENT
BEGIN:VEVENT
DTSTART;TZID=Australia/Brisbane:20301027T101500
DTEND;TZID=Australia/Brisbane:20301027T123000
DTSTAMP:20260426T083606
CREATED:20241014T051451Z
LAST-MODIFIED:20241014T051452Z
UID:10007845-1919326500-1919334600@oslc.org.au
SUMMARY:OSLC Half-Yearly General Meeting
DESCRIPTION:Our Saviour has a General Meeting twice a year. The annual meeting\, generally held on the first weekend of March elects the officers of our congregation and the main business for the half-year meeting is approval of the congregation budget for the following year. Both meetings will also discuss other business pertinent to the time.
URL:https://oslc.org.au/event/oslc-half-yearly-general-meeting-2/2030-10-27/
CATEGORIES:Administration,Community Events,GROUPS,Interests & Passions,Serving the Community
END:VEVENT
BEGIN:VEVENT
DTSTART;TZID=Australia/Brisbane:20311026T101500
DTEND;TZID=Australia/Brisbane:20311026T123000
DTSTAMP:20260426T083606
CREATED:20241014T051451Z
LAST-MODIFIED:20241014T051452Z
UID:10007846-1950776100-1950784200@oslc.org.au
SUMMARY:OSLC Half-Yearly General Meeting
DESCRIPTION:Our Saviour has a General Meeting twice a year. The annual meeting\, generally held on the first weekend of March elects the officers of our congregation and the main business for the half-year meeting is approval of the congregation budget for the following year. Both meetings will also discuss other business pertinent to the time.
URL:https://oslc.org.au/event/oslc-half-yearly-general-meeting-2/2031-10-26/
CATEGORIES:Administration,Community Events,GROUPS,Interests & Passions,Serving the Community
END:VEVENT
BEGIN:VEVENT
DTSTART;TZID=Australia/Brisbane:20321024T101500
DTEND;TZID=Australia/Brisbane:20321024T123000
DTSTAMP:20260426T083606
CREATED:20241014T051451Z
LAST-MODIFIED:20241014T051452Z
UID:10007847-1982225700-1982233800@oslc.org.au
SUMMARY:OSLC Half-Yearly General Meeting
DESCRIPTION:Our Saviour has a General Meeting twice a year. The annual meeting\, generally held on the first weekend of March elects the officers of our congregation and the main business for the half-year meeting is approval of the congregation budget for the following year. Both meetings will also discuss other business pertinent to the time.
URL:https://oslc.org.au/event/oslc-half-yearly-general-meeting-2/2032-10-24/
CATEGORIES:Administration,Community Events,GROUPS,Interests & Passions,Serving the Community
END:VEVENT
END:VCALENDAR