BEGIN:VCALENDAR
VERSION:2.0
PRODID:-//Our Saviour Lutheran Church Rochedale - ECPv6.4.0.1//NONSGML v1.0//EN
CALSCALE:GREGORIAN
METHOD:PUBLISH
X-ORIGINAL-URL:https://oslc.org.au
X-WR-CALDESC:Events for Our Saviour Lutheran Church Rochedale
REFRESH-INTERVAL;VALUE=DURATION:PT1H
X-Robots-Tag:noindex
X-PUBLISHED-TTL:PT1H
BEGIN:VTIMEZONE
TZID:Australia/Brisbane
BEGIN:STANDARD
TZOFFSETFROM:+1000
TZOFFSETTO:+1000
TZNAME:AEST
DTSTART:20260101T000000
END:STANDARD
END:VTIMEZONE
BEGIN:VEVENT
DTSTART;TZID=Australia/Brisbane:20260301T083000
DTEND;TZID=Australia/Brisbane:20260301T094500
DTSTAMP:20260420T195250
CREATED:20230810T031501Z
LAST-MODIFIED:20240517T060727Z
UID:10001860-1772353800-1772358300@oslc.org.au
SUMMARY:Sunday Morning Worship
DESCRIPTION:Worship is at the core of being a family of believers as we acknowledge and worship the Triune God; Father\, Son and Holy Spirit. Our worship is family friendly and demonstrates our efforts towards ‘growing young’. \nWe live stream our worship to our Facebook page each Sunday www.facebook.com/OurSaviour
URL:https://oslc.org.au/event/sunday-morning-worship/2026-03-01/
LOCATION:Redeemer Chapel\, 745 Rochedale Rd.\, Rochedale\, Redeemer Lutheran College\, Rochedale
CATEGORIES:All Ages,Children,Community Events,Exploring Faith,GROWING,Life Stages,Men,Music,Pre-schoolers,Retirees,Teenagers,Women,Worship,Young Adults
ATTACH;FMTTYPE=image/jpeg:https://oslc.org.au/wp-content/uploads/2023/08/MG_4843-2-Copy-scaled-e1692257469878.jpg
END:VEVENT
BEGIN:VEVENT
DTSTART;TZID=Australia/Brisbane:20260301T101500
DTEND;TZID=Australia/Brisbane:20260301T111500
DTSTAMP:20260420T195250
CREATED:20230810T031717Z
LAST-MODIFIED:20240513T054627Z
UID:10001592-1772360100-1772363700@oslc.org.au
SUMMARY:Choir Practice
DESCRIPTION:The Choir meets regularly on Sunday mornings\, to rehearse for its contribution to our worship program. They have a wide repetoire of chorale music they draw on to fit with the particular festival or theme of the day. They are always seeking new members!
URL:https://oslc.org.au/event/choir-practice-7/2026-03-01/
LOCATION:Kleinschmidt Centre
CATEGORIES:GROUPS,GROWING,Home Group,Interests & Passions,Men,Music,Retirees,Teenagers,Women,Young Adults
ATTACH;FMTTYPE=image/jpeg:https://oslc.org.au/wp-content/uploads/2023/08/IMG_3913-scaled-e1692255160923.jpg
END:VEVENT
BEGIN:VEVENT
DTSTART;TZID=Australia/Brisbane:20260301T101500
DTEND;TZID=Australia/Brisbane:20260301T121500
DTSTAMP:20260420T195250
CREATED:20240509T045623Z
LAST-MODIFIED:20240509T051019Z
UID:10005880-1772360100-1772367300@oslc.org.au
SUMMARY:OSLC Annual General Meeting
DESCRIPTION:Our Saviour has a General Meeting twice a year. The annual meeting\, generally held on the first weekend of March elects the officers of our congregation and the main business for the half-year meeting is approval of the congregation budget for the following year. Both meetings will also discuss other business pertinent to the time.
URL:https://oslc.org.au/event/oslc-annual-general-meeting-2/
CATEGORIES:Administration,Community Events,GROUPS,Interests & Passions,Serving the Community
END:VEVENT
BEGIN:VEVENT
DTSTART;TZID=Australia/Brisbane:20260301T173000
DTEND;TZID=Australia/Brisbane:20260301T190000
DTSTAMP:20260420T195250
CREATED:20230810T031603Z
LAST-MODIFIED:20240510T011352Z
UID:10003340-1772386200-1772391600@oslc.org.au
SUMMARY:Alter Evening Worship
DESCRIPTION:Join us for our evening worship in a relaxed and conversational style. A light meal is also available.
URL:https://oslc.org.au/event/alter-evening-worship/2026-03-01/
LOCATION:Redeemer Chapel\, 745 Rochedale Road\, Rochedale\, Queensland\, 4123\, Australia
CATEGORIES:All Ages,Exploring Faith,GROUPS,GROWING,Hospitality,Life Stages,Music,Teenagers,Worship,Young Adults
END:VEVENT
END:VCALENDAR