BEGIN:VCALENDAR
VERSION:2.0
PRODID:-//Our Saviour Lutheran Church Rochedale - ECPv6.4.0.1//NONSGML v1.0//EN
CALSCALE:GREGORIAN
METHOD:PUBLISH
X-WR-CALNAME:Our Saviour Lutheran Church Rochedale
X-ORIGINAL-URL:https://oslc.org.au
X-WR-CALDESC:Events for Our Saviour Lutheran Church Rochedale
REFRESH-INTERVAL;VALUE=DURATION:PT1H
X-Robots-Tag:noindex
X-PUBLISHED-TTL:PT1H
BEGIN:VTIMEZONE
TZID:Australia/Brisbane
BEGIN:STANDARD
TZOFFSETFROM:+1000
TZOFFSETTO:+1000
TZNAME:AEST
DTSTART:20260101T000000
END:STANDARD
END:VTIMEZONE
BEGIN:VEVENT
DTSTART;TZID=Australia/Brisbane:20260510T101500
DTEND;TZID=Australia/Brisbane:20260510T111500
DTSTAMP:20260422T012538
CREATED:20230810T031501Z
LAST-MODIFIED:20240510T010943Z
UID:10002941-1778408100-1778411700@oslc.org.au
SUMMARY:Growing Young Advocates
DESCRIPTION:Our Saviour is a church that is ‘growing young’. Our growing young advocates get together to discuss what that means\, doing research and implementing growing young strategies that show that we care for and value our children and young people.
URL:https://oslc.org.au/event/growing-young-advocates/2026-05-10/
LOCATION:Senior Resource Centre (Library)
CATEGORIES:GROUPS,GROWING,Home Group,Learning,Life Stages,Serving the Community
ATTACH;FMTTYPE=image/png:https://oslc.org.au/wp-content/uploads/2023/08/Screenshot-2023-08-24-at-2.12.39-pm.png
END:VEVENT
END:VCALENDAR