BEGIN:VCALENDAR
VERSION:2.0
PRODID:-//Our Saviour Lutheran Church Rochedale - ECPv6.4.0.1//NONSGML v1.0//EN
CALSCALE:GREGORIAN
METHOD:PUBLISH
X-WR-CALNAME:Our Saviour Lutheran Church Rochedale
X-ORIGINAL-URL:https://oslc.org.au
X-WR-CALDESC:Events for Our Saviour Lutheran Church Rochedale
REFRESH-INTERVAL;VALUE=DURATION:PT1H
X-Robots-Tag:noindex
X-PUBLISHED-TTL:PT1H
BEGIN:VTIMEZONE
TZID:Australia/Brisbane
BEGIN:STANDARD
TZOFFSETFROM:+1000
TZOFFSETTO:+1000
TZNAME:AEST
DTSTART:20260101T000000
END:STANDARD
END:VTIMEZONE
BEGIN:VEVENT
DTSTART;TZID=Australia/Brisbane:20260519T190000
DTEND;TZID=Australia/Brisbane:20260519T210000
DTSTAMP:20260422T023233
CREATED:20230810T031516Z
LAST-MODIFIED:20240510T010407Z
UID:10003554-1779217200-1779224400@oslc.org.au
SUMMARY:Home Group - Stelzer
DESCRIPTION:Home groups are a place where you can connect with others and support one another in matters of faith and life. There’s a range of opportunities\, hopefully at a time and place that will suit you.
URL:https://oslc.org.au/event/home-group-stelzer/2026-05-19/
LOCATION:Rachael and Tyson’s
CATEGORIES:All Ages,Care,Exploring Faith,GROUPS,GROWING,Home Group,Learning,Life Stages,Prayer
END:VEVENT
BEGIN:VEVENT
DTSTART;TZID=Australia/Brisbane:20260519T190000
DTEND;TZID=Australia/Brisbane:20260519T210000
DTSTAMP:20260422T023233
CREATED:20240509T053024Z
LAST-MODIFIED:20240509T053025Z
UID:10006285-1779217200-1779224400@oslc.org.au
SUMMARY:Home Group - Rentz
DESCRIPTION:Home groups are a place where you can connect with others and support one another in matters of faith and life. There’s a range of opportunities\, hopefully at a time and place that will suit you.
URL:https://oslc.org.au/event/home-group-rentz-2/
CATEGORIES:Exploring Faith,GROWING,Home Group,Learning,Life Stages,Young Adults
END:VEVENT
BEGIN:VEVENT
DTSTART;TZID=Australia/Brisbane:20260521T093000
DTEND;TZID=Australia/Brisbane:20260521T113000
DTSTAMP:20260422T023233
CREATED:20230810T031533Z
LAST-MODIFIED:20240510T010135Z
UID:10004194-1779355800-1779363000@oslc.org.au
SUMMARY:Thursday Ladies - Bible Study
DESCRIPTION:Thursday\, our ladies gather together for a time of fellowship and bible study\, enjoyed by all!
URL:https://oslc.org.au/event/thursday-ladies-bible-study/2026-05-21/
LOCATION:Doorways
CATEGORIES:Care,Exploring Faith,GROUPS,GROWING,Home Group,Learning,Life Stages,Prayer,Women
END:VEVENT
BEGIN:VEVENT
DTSTART;TZID=Australia/Brisbane:20260521T190000
DTEND;TZID=Australia/Brisbane:20260521T210000
DTSTAMP:20260422T023233
CREATED:20230905T042513Z
LAST-MODIFIED:20240510T002957Z
UID:10006024-1779390000-1779397200@oslc.org.au
SUMMARY:Home Group - Dudgeon
DESCRIPTION:This group has a focus on sharing the good news with the community and are currently doing the Alpha Course. They have also been active supporters in Brekky Club. \nHome groups are a place where you can connect with others and support one another in matters of faith and life. There’s a range of opportunities\, hopefully at a time and place that will suit you.
URL:https://oslc.org.au/event/home-group-dudgeon/2026-05-21/
CATEGORIES:Care,Exploring Faith,Home Group,Hospitality,Learning,Men,Prayer,Women
END:VEVENT
BEGIN:VEVENT
DTSTART;TZID=Australia/Brisbane:20260521T190000
DTEND;TZID=Australia/Brisbane:20260521T210000
DTSTAMP:20260422T023233
CREATED:20230905T042710Z
LAST-MODIFIED:20240510T002858Z
UID:10006547-1779390000-1779397200@oslc.org.au
SUMMARY:Home Group - Spann
DESCRIPTION:Home groups are a place where you can connect with others and support one another in matters of faith and life. There’s a range of opportunities\, hopefully at a time and place that will suit you.
URL:https://oslc.org.au/event/home-group-spann/2026-05-21/
CATEGORIES:All Ages,Care,Exploring Faith,Home Group,Learning
END:VEVENT
END:VCALENDAR