BEGIN:VCALENDAR
VERSION:2.0
PRODID:-//Our Saviour Lutheran Church Rochedale - ECPv6.4.0.1//NONSGML v1.0//EN
CALSCALE:GREGORIAN
METHOD:PUBLISH
X-ORIGINAL-URL:https://oslc.org.au
X-WR-CALDESC:Events for Our Saviour Lutheran Church Rochedale
REFRESH-INTERVAL;VALUE=DURATION:PT1H
X-Robots-Tag:noindex
X-PUBLISHED-TTL:PT1H
BEGIN:VTIMEZONE
TZID:Australia/Brisbane
BEGIN:STANDARD
TZOFFSETFROM:+1000
TZOFFSETTO:+1000
TZNAME:AEST
DTSTART:20280101T000000
END:STANDARD
END:VTIMEZONE
BEGIN:VEVENT
DTSTART;TZID=Australia/Brisbane:20280506T170000
DTEND;TZID=Australia/Brisbane:20280506T200000
DTSTAMP:20260425T042025
CREATED:20230810T031602Z
LAST-MODIFIED:20230905T035552Z
UID:10004624-1841245200-1841256000@oslc.org.au
SUMMARY:Emmaus Gathering
DESCRIPTION:The Emmaus’ Community objective is to inspire\, challenge\, and equip local church members for Christian action in their homes\, churches\, communities and places of work. It is centred around a spiritual renewal program that thousands of people around the world have undertaken to renew their heart\, mind\, soul and strength\, richly modelling the servanthood of Jesus and encouraging Christ’s disciples to act in ways appropriate to being “a servant of all.” \nArrive at 5pm and if you can\, please bring some food to share toward our meal together (or if you prefer\, just bring your own).\n5:30pm Prayer Time will be happening (at the back of the service area). Anyone is welcome to pray with those who gather.\n6pm for our Meeting and Worship and sharing time.
URL:https://oslc.org.au/event/emmaus-gathering/2028-05-06/
LOCATION:Redeemer Chapel\, 745 Rochedale Road\, Rochedale\, Queensland\, 4123\, Australia
CATEGORIES:Exploring Faith
END:VEVENT
BEGIN:VEVENT
DTSTART;TZID=Australia/Brisbane:20280603T170000
DTEND;TZID=Australia/Brisbane:20280603T200000
DTSTAMP:20260425T042025
CREATED:20230810T031602Z
LAST-MODIFIED:20230905T035552Z
UID:10004625-1843664400-1843675200@oslc.org.au
SUMMARY:Emmaus Gathering
DESCRIPTION:The Emmaus’ Community objective is to inspire\, challenge\, and equip local church members for Christian action in their homes\, churches\, communities and places of work. It is centred around a spiritual renewal program that thousands of people around the world have undertaken to renew their heart\, mind\, soul and strength\, richly modelling the servanthood of Jesus and encouraging Christ’s disciples to act in ways appropriate to being “a servant of all.” \nArrive at 5pm and if you can\, please bring some food to share toward our meal together (or if you prefer\, just bring your own).\n5:30pm Prayer Time will be happening (at the back of the service area). Anyone is welcome to pray with those who gather.\n6pm for our Meeting and Worship and sharing time.
URL:https://oslc.org.au/event/emmaus-gathering/2028-06-03/
LOCATION:Redeemer Chapel\, 745 Rochedale Road\, Rochedale\, Queensland\, 4123\, Australia
CATEGORIES:Exploring Faith
END:VEVENT
BEGIN:VEVENT
DTSTART;TZID=Australia/Brisbane:20280701T170000
DTEND;TZID=Australia/Brisbane:20280701T200000
DTSTAMP:20260425T042025
CREATED:20230810T031602Z
LAST-MODIFIED:20230905T035552Z
UID:10004626-1846083600-1846094400@oslc.org.au
SUMMARY:Emmaus Gathering
DESCRIPTION:The Emmaus’ Community objective is to inspire\, challenge\, and equip local church members for Christian action in their homes\, churches\, communities and places of work. It is centred around a spiritual renewal program that thousands of people around the world have undertaken to renew their heart\, mind\, soul and strength\, richly modelling the servanthood of Jesus and encouraging Christ’s disciples to act in ways appropriate to being “a servant of all.” \nArrive at 5pm and if you can\, please bring some food to share toward our meal together (or if you prefer\, just bring your own).\n5:30pm Prayer Time will be happening (at the back of the service area). Anyone is welcome to pray with those who gather.\n6pm for our Meeting and Worship and sharing time.
URL:https://oslc.org.au/event/emmaus-gathering/2028-07-01/
LOCATION:Redeemer Chapel\, 745 Rochedale Road\, Rochedale\, Queensland\, 4123\, Australia
CATEGORIES:Exploring Faith
END:VEVENT
BEGIN:VEVENT
DTSTART;TZID=Australia/Brisbane:20280805T170000
DTEND;TZID=Australia/Brisbane:20280805T200000
DTSTAMP:20260425T042025
CREATED:20230810T031602Z
LAST-MODIFIED:20230905T035552Z
UID:10004627-1849107600-1849118400@oslc.org.au
SUMMARY:Emmaus Gathering
DESCRIPTION:The Emmaus’ Community objective is to inspire\, challenge\, and equip local church members for Christian action in their homes\, churches\, communities and places of work. It is centred around a spiritual renewal program that thousands of people around the world have undertaken to renew their heart\, mind\, soul and strength\, richly modelling the servanthood of Jesus and encouraging Christ’s disciples to act in ways appropriate to being “a servant of all.” \nArrive at 5pm and if you can\, please bring some food to share toward our meal together (or if you prefer\, just bring your own).\n5:30pm Prayer Time will be happening (at the back of the service area). Anyone is welcome to pray with those who gather.\n6pm for our Meeting and Worship and sharing time.
URL:https://oslc.org.au/event/emmaus-gathering/2028-08-05/
LOCATION:Redeemer Chapel\, 745 Rochedale Road\, Rochedale\, Queensland\, 4123\, Australia
CATEGORIES:Exploring Faith
END:VEVENT
BEGIN:VEVENT
DTSTART;TZID=Australia/Brisbane:20280902T170000
DTEND;TZID=Australia/Brisbane:20280902T200000
DTSTAMP:20260425T042025
CREATED:20230810T031602Z
LAST-MODIFIED:20230905T035552Z
UID:10005876-1851526800-1851537600@oslc.org.au
SUMMARY:Emmaus Gathering
DESCRIPTION:The Emmaus’ Community objective is to inspire\, challenge\, and equip local church members for Christian action in their homes\, churches\, communities and places of work. It is centred around a spiritual renewal program that thousands of people around the world have undertaken to renew their heart\, mind\, soul and strength\, richly modelling the servanthood of Jesus and encouraging Christ’s disciples to act in ways appropriate to being “a servant of all.” \nArrive at 5pm and if you can\, please bring some food to share toward our meal together (or if you prefer\, just bring your own).\n5:30pm Prayer Time will be happening (at the back of the service area). Anyone is welcome to pray with those who gather.\n6pm for our Meeting and Worship and sharing time.
URL:https://oslc.org.au/event/emmaus-gathering/2028-09-02/
LOCATION:Redeemer Chapel\, 745 Rochedale Road\, Rochedale\, Queensland\, 4123\, Australia
CATEGORIES:Exploring Faith
END:VEVENT
END:VCALENDAR