BEGIN:VCALENDAR
VERSION:2.0
PRODID:-//Our Saviour Lutheran Church Rochedale - ECPv6.4.0.1//NONSGML v1.0//EN
CALSCALE:GREGORIAN
METHOD:PUBLISH
X-WR-CALNAME:Our Saviour Lutheran Church Rochedale
X-ORIGINAL-URL:https://oslc.org.au
X-WR-CALDESC:Events for Our Saviour Lutheran Church Rochedale
REFRESH-INTERVAL;VALUE=DURATION:PT1H
X-Robots-Tag:noindex
X-PUBLISHED-TTL:PT1H
BEGIN:VTIMEZONE
TZID:Australia/Brisbane
BEGIN:STANDARD
TZOFFSETFROM:+1000
TZOFFSETTO:+1000
TZNAME:AEST
DTSTART:20260101T000000
END:STANDARD
END:VTIMEZONE
BEGIN:VEVENT
DTSTART;TZID=Australia/Brisbane:20261025T101500
DTEND;TZID=Australia/Brisbane:20261025T123000
DTSTAMP:20260421T031150
CREATED:20241014T051451Z
LAST-MODIFIED:20241014T051452Z
UID:10007841-1792923300-1792931400@oslc.org.au
SUMMARY:OSLC Half-Yearly General Meeting
DESCRIPTION:Our Saviour has a General Meeting twice a year. The annual meeting\, generally held on the first weekend of March elects the officers of our congregation and the main business for the half-year meeting is approval of the congregation budget for the following year. Both meetings will also discuss other business pertinent to the time.
URL:https://oslc.org.au/event/oslc-half-yearly-general-meeting-2/2026-10-25/
CATEGORIES:Administration,Community Events,GROUPS,Interests & Passions,Serving the Community
END:VEVENT
END:VCALENDAR