BEGIN:VCALENDAR
VERSION:2.0
PRODID:-//Our Saviour Lutheran Church Rochedale - ECPv6.4.0.1//NONSGML v1.0//EN
CALSCALE:GREGORIAN
METHOD:PUBLISH
X-WR-CALNAME:Our Saviour Lutheran Church Rochedale
X-ORIGINAL-URL:https://oslc.org.au
X-WR-CALDESC:Events for Our Saviour Lutheran Church Rochedale
REFRESH-INTERVAL;VALUE=DURATION:PT1H
X-Robots-Tag:noindex
X-PUBLISHED-TTL:PT1H
BEGIN:VTIMEZONE
TZID:Australia/Brisbane
BEGIN:STANDARD
TZOFFSETFROM:+1000
TZOFFSETTO:+1000
TZNAME:AEST
DTSTART:20260101T000000
END:STANDARD
END:VTIMEZONE
BEGIN:VEVENT
DTSTART;TZID=Australia/Brisbane:20260520T190000
DTEND;TZID=Australia/Brisbane:20260520T210000
DTSTAMP:20260421T013231
CREATED:20230810T031517Z
LAST-MODIFIED:20240510T010703Z
UID:10003266-1779303600-1779310800@oslc.org.au
SUMMARY:Governance Council Meeting
DESCRIPTION:The Governance Council is elected by voting members of the congregation and meet monthly to discuss the activities of the congregation and ensure alignment with our strategic direction.
URL:https://oslc.org.au/event/governance-council-meeting-2/2026-05-20/
CATEGORIES:Administration,GROUPS,Interests & Passions
END:VEVENT
BEGIN:VEVENT
DTSTART;TZID=Australia/Brisbane:20260617T190000
DTEND;TZID=Australia/Brisbane:20260617T210000
DTSTAMP:20260421T013231
CREATED:20230810T031517Z
LAST-MODIFIED:20240510T010703Z
UID:10003267-1781722800-1781730000@oslc.org.au
SUMMARY:Governance Council Meeting
DESCRIPTION:The Governance Council is elected by voting members of the congregation and meet monthly to discuss the activities of the congregation and ensure alignment with our strategic direction.
URL:https://oslc.org.au/event/governance-council-meeting-2/2026-06-17/
CATEGORIES:Administration,GROUPS,Interests & Passions
END:VEVENT
BEGIN:VEVENT
DTSTART;TZID=Australia/Brisbane:20260715T190000
DTEND;TZID=Australia/Brisbane:20260715T210000
DTSTAMP:20260421T013231
CREATED:20230810T031517Z
LAST-MODIFIED:20240510T010703Z
UID:10003268-1784142000-1784149200@oslc.org.au
SUMMARY:Governance Council Meeting
DESCRIPTION:The Governance Council is elected by voting members of the congregation and meet monthly to discuss the activities of the congregation and ensure alignment with our strategic direction.
URL:https://oslc.org.au/event/governance-council-meeting-2/2026-07-15/
CATEGORIES:Administration,GROUPS,Interests & Passions
END:VEVENT
BEGIN:VEVENT
DTSTART;TZID=Australia/Brisbane:20260819T190000
DTEND;TZID=Australia/Brisbane:20260819T210000
DTSTAMP:20260421T013231
CREATED:20230810T031517Z
LAST-MODIFIED:20240510T010703Z
UID:10003269-1787166000-1787173200@oslc.org.au
SUMMARY:Governance Council Meeting
DESCRIPTION:The Governance Council is elected by voting members of the congregation and meet monthly to discuss the activities of the congregation and ensure alignment with our strategic direction.
URL:https://oslc.org.au/event/governance-council-meeting-2/2026-08-19/
CATEGORIES:Administration,GROUPS,Interests & Passions
END:VEVENT
BEGIN:VEVENT
DTSTART;TZID=Australia/Brisbane:20260916T190000
DTEND;TZID=Australia/Brisbane:20260916T210000
DTSTAMP:20260421T013231
CREATED:20230810T031517Z
LAST-MODIFIED:20240510T010703Z
UID:10003270-1789585200-1789592400@oslc.org.au
SUMMARY:Governance Council Meeting
DESCRIPTION:The Governance Council is elected by voting members of the congregation and meet monthly to discuss the activities of the congregation and ensure alignment with our strategic direction.
URL:https://oslc.org.au/event/governance-council-meeting-2/2026-09-16/
CATEGORIES:Administration,GROUPS,Interests & Passions
END:VEVENT
BEGIN:VEVENT
DTSTART;TZID=Australia/Brisbane:20261021T190000
DTEND;TZID=Australia/Brisbane:20261021T210000
DTSTAMP:20260421T013231
CREATED:20230810T031517Z
LAST-MODIFIED:20240510T010703Z
UID:10003271-1792609200-1792616400@oslc.org.au
SUMMARY:Governance Council Meeting
DESCRIPTION:The Governance Council is elected by voting members of the congregation and meet monthly to discuss the activities of the congregation and ensure alignment with our strategic direction.
URL:https://oslc.org.au/event/governance-council-meeting-2/2026-10-21/
CATEGORIES:Administration,GROUPS,Interests & Passions
END:VEVENT
BEGIN:VEVENT
DTSTART;TZID=Australia/Brisbane:20261025T101500
DTEND;TZID=Australia/Brisbane:20261025T123000
DTSTAMP:20260421T013231
CREATED:20241014T051451Z
LAST-MODIFIED:20241014T051452Z
UID:10007841-1792923300-1792931400@oslc.org.au
SUMMARY:OSLC Half-Yearly General Meeting
DESCRIPTION:Our Saviour has a General Meeting twice a year. The annual meeting\, generally held on the first weekend of March elects the officers of our congregation and the main business for the half-year meeting is approval of the congregation budget for the following year. Both meetings will also discuss other business pertinent to the time.
URL:https://oslc.org.au/event/oslc-half-yearly-general-meeting-2/2026-10-25/
CATEGORIES:Administration,Community Events,GROUPS,Interests & Passions,Serving the Community
END:VEVENT
BEGIN:VEVENT
DTSTART;TZID=Australia/Brisbane:20261118T190000
DTEND;TZID=Australia/Brisbane:20261118T210000
DTSTAMP:20260421T013231
CREATED:20230810T031517Z
LAST-MODIFIED:20240510T010703Z
UID:10003272-1795028400-1795035600@oslc.org.au
SUMMARY:Governance Council Meeting
DESCRIPTION:The Governance Council is elected by voting members of the congregation and meet monthly to discuss the activities of the congregation and ensure alignment with our strategic direction.
URL:https://oslc.org.au/event/governance-council-meeting-2/2026-11-18/
CATEGORIES:Administration,GROUPS,Interests & Passions
END:VEVENT
BEGIN:VEVENT
DTSTART;TZID=Australia/Brisbane:20261216T190000
DTEND;TZID=Australia/Brisbane:20261216T210000
DTSTAMP:20260421T013231
CREATED:20230810T031517Z
LAST-MODIFIED:20240510T010703Z
UID:10003273-1797447600-1797454800@oslc.org.au
SUMMARY:Governance Council Meeting
DESCRIPTION:The Governance Council is elected by voting members of the congregation and meet monthly to discuss the activities of the congregation and ensure alignment with our strategic direction.
URL:https://oslc.org.au/event/governance-council-meeting-2/2026-12-16/
CATEGORIES:Administration,GROUPS,Interests & Passions
END:VEVENT
BEGIN:VEVENT
DTSTART;TZID=Australia/Brisbane:20270120T190000
DTEND;TZID=Australia/Brisbane:20270120T210000
DTSTAMP:20260421T013231
CREATED:20230810T031517Z
LAST-MODIFIED:20240510T010703Z
UID:10003274-1800471600-1800478800@oslc.org.au
SUMMARY:Governance Council Meeting
DESCRIPTION:The Governance Council is elected by voting members of the congregation and meet monthly to discuss the activities of the congregation and ensure alignment with our strategic direction.
URL:https://oslc.org.au/event/governance-council-meeting-2/2027-01-20/
CATEGORIES:Administration,GROUPS,Interests & Passions
END:VEVENT
BEGIN:VEVENT
DTSTART;TZID=Australia/Brisbane:20270217T190000
DTEND;TZID=Australia/Brisbane:20270217T210000
DTSTAMP:20260421T013231
CREATED:20230810T031517Z
LAST-MODIFIED:20240510T010703Z
UID:10003275-1802890800-1802898000@oslc.org.au
SUMMARY:Governance Council Meeting
DESCRIPTION:The Governance Council is elected by voting members of the congregation and meet monthly to discuss the activities of the congregation and ensure alignment with our strategic direction.
URL:https://oslc.org.au/event/governance-council-meeting-2/2027-02-17/
CATEGORIES:Administration,GROUPS,Interests & Passions
END:VEVENT
BEGIN:VEVENT
DTSTART;TZID=Australia/Brisbane:20270307T101500
DTEND;TZID=Australia/Brisbane:20270307T121500
DTSTAMP:20260421T013231
CREATED:20240509T045623Z
LAST-MODIFIED:20240509T051019Z
UID:10005881-1804414500-1804421700@oslc.org.au
SUMMARY:OSLC Annual General Meeting
DESCRIPTION:Our Saviour has a General Meeting twice a year. The annual meeting\, generally held on the first weekend of March elects the officers of our congregation and the main business for the half-year meeting is approval of the congregation budget for the following year. Both meetings will also discuss other business pertinent to the time.
URL:https://oslc.org.au/event/oslc-annual-general-meeting-2/
CATEGORIES:Administration,Community Events,GROUPS,Interests & Passions,Serving the Community
END:VEVENT
BEGIN:VEVENT
DTSTART;TZID=Australia/Brisbane:20270317T190000
DTEND;TZID=Australia/Brisbane:20270317T210000
DTSTAMP:20260421T013231
CREATED:20230810T031517Z
LAST-MODIFIED:20240510T010703Z
UID:10003276-1805310000-1805317200@oslc.org.au
SUMMARY:Governance Council Meeting
DESCRIPTION:The Governance Council is elected by voting members of the congregation and meet monthly to discuss the activities of the congregation and ensure alignment with our strategic direction.
URL:https://oslc.org.au/event/governance-council-meeting-2/2027-03-17/
CATEGORIES:Administration,GROUPS,Interests & Passions
END:VEVENT
BEGIN:VEVENT
DTSTART;TZID=Australia/Brisbane:20270421T190000
DTEND;TZID=Australia/Brisbane:20270421T210000
DTSTAMP:20260421T013231
CREATED:20230810T031517Z
LAST-MODIFIED:20240510T010703Z
UID:10003277-1808334000-1808341200@oslc.org.au
SUMMARY:Governance Council Meeting
DESCRIPTION:The Governance Council is elected by voting members of the congregation and meet monthly to discuss the activities of the congregation and ensure alignment with our strategic direction.
URL:https://oslc.org.au/event/governance-council-meeting-2/2027-04-21/
CATEGORIES:Administration,GROUPS,Interests & Passions
END:VEVENT
BEGIN:VEVENT
DTSTART;TZID=Australia/Brisbane:20270519T190000
DTEND;TZID=Australia/Brisbane:20270519T210000
DTSTAMP:20260421T013231
CREATED:20230810T031517Z
LAST-MODIFIED:20240510T010703Z
UID:10003278-1810753200-1810760400@oslc.org.au
SUMMARY:Governance Council Meeting
DESCRIPTION:The Governance Council is elected by voting members of the congregation and meet monthly to discuss the activities of the congregation and ensure alignment with our strategic direction.
URL:https://oslc.org.au/event/governance-council-meeting-2/2027-05-19/
CATEGORIES:Administration,GROUPS,Interests & Passions
END:VEVENT
BEGIN:VEVENT
DTSTART;TZID=Australia/Brisbane:20270616T190000
DTEND;TZID=Australia/Brisbane:20270616T210000
DTSTAMP:20260421T013231
CREATED:20230810T031517Z
LAST-MODIFIED:20240510T010703Z
UID:10003279-1813172400-1813179600@oslc.org.au
SUMMARY:Governance Council Meeting
DESCRIPTION:The Governance Council is elected by voting members of the congregation and meet monthly to discuss the activities of the congregation and ensure alignment with our strategic direction.
URL:https://oslc.org.au/event/governance-council-meeting-2/2027-06-16/
CATEGORIES:Administration,GROUPS,Interests & Passions
END:VEVENT
BEGIN:VEVENT
DTSTART;TZID=Australia/Brisbane:20270721T190000
DTEND;TZID=Australia/Brisbane:20270721T210000
DTSTAMP:20260421T013231
CREATED:20230810T031517Z
LAST-MODIFIED:20240510T010703Z
UID:10003280-1816196400-1816203600@oslc.org.au
SUMMARY:Governance Council Meeting
DESCRIPTION:The Governance Council is elected by voting members of the congregation and meet monthly to discuss the activities of the congregation and ensure alignment with our strategic direction.
URL:https://oslc.org.au/event/governance-council-meeting-2/2027-07-21/
CATEGORIES:Administration,GROUPS,Interests & Passions
END:VEVENT
BEGIN:VEVENT
DTSTART;TZID=Australia/Brisbane:20270818T190000
DTEND;TZID=Australia/Brisbane:20270818T210000
DTSTAMP:20260421T013231
CREATED:20230810T031517Z
LAST-MODIFIED:20240510T010703Z
UID:10003281-1818615600-1818622800@oslc.org.au
SUMMARY:Governance Council Meeting
DESCRIPTION:The Governance Council is elected by voting members of the congregation and meet monthly to discuss the activities of the congregation and ensure alignment with our strategic direction.
URL:https://oslc.org.au/event/governance-council-meeting-2/2027-08-18/
CATEGORIES:Administration,GROUPS,Interests & Passions
END:VEVENT
BEGIN:VEVENT
DTSTART;TZID=Australia/Brisbane:20270915T190000
DTEND;TZID=Australia/Brisbane:20270915T210000
DTSTAMP:20260421T013231
CREATED:20230810T031517Z
LAST-MODIFIED:20240510T010703Z
UID:10003282-1821034800-1821042000@oslc.org.au
SUMMARY:Governance Council Meeting
DESCRIPTION:The Governance Council is elected by voting members of the congregation and meet monthly to discuss the activities of the congregation and ensure alignment with our strategic direction.
URL:https://oslc.org.au/event/governance-council-meeting-2/2027-09-15/
CATEGORIES:Administration,GROUPS,Interests & Passions
END:VEVENT
BEGIN:VEVENT
DTSTART;TZID=Australia/Brisbane:20271020T190000
DTEND;TZID=Australia/Brisbane:20271020T210000
DTSTAMP:20260421T013231
CREATED:20230810T031517Z
LAST-MODIFIED:20240510T010703Z
UID:10003283-1824058800-1824066000@oslc.org.au
SUMMARY:Governance Council Meeting
DESCRIPTION:The Governance Council is elected by voting members of the congregation and meet monthly to discuss the activities of the congregation and ensure alignment with our strategic direction.
URL:https://oslc.org.au/event/governance-council-meeting-2/2027-10-20/
CATEGORIES:Administration,GROUPS,Interests & Passions
END:VEVENT
BEGIN:VEVENT
DTSTART;TZID=Australia/Brisbane:20271024T101500
DTEND;TZID=Australia/Brisbane:20271024T123000
DTSTAMP:20260421T013231
CREATED:20241014T051451Z
LAST-MODIFIED:20241014T051452Z
UID:10007842-1824372900-1824381000@oslc.org.au
SUMMARY:OSLC Half-Yearly General Meeting
DESCRIPTION:Our Saviour has a General Meeting twice a year. The annual meeting\, generally held on the first weekend of March elects the officers of our congregation and the main business for the half-year meeting is approval of the congregation budget for the following year. Both meetings will also discuss other business pertinent to the time.
URL:https://oslc.org.au/event/oslc-half-yearly-general-meeting-2/2027-10-24/
CATEGORIES:Administration,Community Events,GROUPS,Interests & Passions,Serving the Community
END:VEVENT
BEGIN:VEVENT
DTSTART;TZID=Australia/Brisbane:20271117T190000
DTEND;TZID=Australia/Brisbane:20271117T210000
DTSTAMP:20260421T013231
CREATED:20230810T031517Z
LAST-MODIFIED:20240510T010703Z
UID:10003284-1826478000-1826485200@oslc.org.au
SUMMARY:Governance Council Meeting
DESCRIPTION:The Governance Council is elected by voting members of the congregation and meet monthly to discuss the activities of the congregation and ensure alignment with our strategic direction.
URL:https://oslc.org.au/event/governance-council-meeting-2/2027-11-17/
CATEGORIES:Administration,GROUPS,Interests & Passions
END:VEVENT
BEGIN:VEVENT
DTSTART;TZID=Australia/Brisbane:20271215T190000
DTEND;TZID=Australia/Brisbane:20271215T210000
DTSTAMP:20260421T013231
CREATED:20230810T031517Z
LAST-MODIFIED:20240510T010703Z
UID:10003285-1828897200-1828904400@oslc.org.au
SUMMARY:Governance Council Meeting
DESCRIPTION:The Governance Council is elected by voting members of the congregation and meet monthly to discuss the activities of the congregation and ensure alignment with our strategic direction.
URL:https://oslc.org.au/event/governance-council-meeting-2/2027-12-15/
CATEGORIES:Administration,GROUPS,Interests & Passions
END:VEVENT
BEGIN:VEVENT
DTSTART;TZID=Australia/Brisbane:20280119T190000
DTEND;TZID=Australia/Brisbane:20280119T210000
DTSTAMP:20260421T013231
CREATED:20230810T031517Z
LAST-MODIFIED:20240510T010703Z
UID:10003286-1831921200-1831928400@oslc.org.au
SUMMARY:Governance Council Meeting
DESCRIPTION:The Governance Council is elected by voting members of the congregation and meet monthly to discuss the activities of the congregation and ensure alignment with our strategic direction.
URL:https://oslc.org.au/event/governance-council-meeting-2/2028-01-19/
CATEGORIES:Administration,GROUPS,Interests & Passions
END:VEVENT
BEGIN:VEVENT
DTSTART;TZID=Australia/Brisbane:20280216T190000
DTEND;TZID=Australia/Brisbane:20280216T210000
DTSTAMP:20260421T013231
CREATED:20230810T031517Z
LAST-MODIFIED:20240510T010703Z
UID:10003287-1834340400-1834347600@oslc.org.au
SUMMARY:Governance Council Meeting
DESCRIPTION:The Governance Council is elected by voting members of the congregation and meet monthly to discuss the activities of the congregation and ensure alignment with our strategic direction.
URL:https://oslc.org.au/event/governance-council-meeting-2/2028-02-16/
CATEGORIES:Administration,GROUPS,Interests & Passions
END:VEVENT
BEGIN:VEVENT
DTSTART;TZID=Australia/Brisbane:20280305T101500
DTEND;TZID=Australia/Brisbane:20280305T121500
DTSTAMP:20260421T013231
CREATED:20240509T045623Z
LAST-MODIFIED:20240509T051019Z
UID:10005882-1835864100-1835871300@oslc.org.au
SUMMARY:OSLC Annual General Meeting
DESCRIPTION:Our Saviour has a General Meeting twice a year. The annual meeting\, generally held on the first weekend of March elects the officers of our congregation and the main business for the half-year meeting is approval of the congregation budget for the following year. Both meetings will also discuss other business pertinent to the time.
URL:https://oslc.org.au/event/oslc-annual-general-meeting-2/
CATEGORIES:Administration,Community Events,GROUPS,Interests & Passions,Serving the Community
END:VEVENT
BEGIN:VEVENT
DTSTART;TZID=Australia/Brisbane:20280315T190000
DTEND;TZID=Australia/Brisbane:20280315T210000
DTSTAMP:20260421T013231
CREATED:20230810T031517Z
LAST-MODIFIED:20240510T010703Z
UID:10003288-1836759600-1836766800@oslc.org.au
SUMMARY:Governance Council Meeting
DESCRIPTION:The Governance Council is elected by voting members of the congregation and meet monthly to discuss the activities of the congregation and ensure alignment with our strategic direction.
URL:https://oslc.org.au/event/governance-council-meeting-2/2028-03-15/
CATEGORIES:Administration,GROUPS,Interests & Passions
END:VEVENT
BEGIN:VEVENT
DTSTART;TZID=Australia/Brisbane:20280419T190000
DTEND;TZID=Australia/Brisbane:20280419T210000
DTSTAMP:20260421T013231
CREATED:20230810T031517Z
LAST-MODIFIED:20240510T010703Z
UID:10003289-1839783600-1839790800@oslc.org.au
SUMMARY:Governance Council Meeting
DESCRIPTION:The Governance Council is elected by voting members of the congregation and meet monthly to discuss the activities of the congregation and ensure alignment with our strategic direction.
URL:https://oslc.org.au/event/governance-council-meeting-2/2028-04-19/
CATEGORIES:Administration,GROUPS,Interests & Passions
END:VEVENT
BEGIN:VEVENT
DTSTART;TZID=Australia/Brisbane:20280517T190000
DTEND;TZID=Australia/Brisbane:20280517T210000
DTSTAMP:20260421T013231
CREATED:20230810T031517Z
LAST-MODIFIED:20240510T010703Z
UID:10003290-1842202800-1842210000@oslc.org.au
SUMMARY:Governance Council Meeting
DESCRIPTION:The Governance Council is elected by voting members of the congregation and meet monthly to discuss the activities of the congregation and ensure alignment with our strategic direction.
URL:https://oslc.org.au/event/governance-council-meeting-2/2028-05-17/
CATEGORIES:Administration,GROUPS,Interests & Passions
END:VEVENT
BEGIN:VEVENT
DTSTART;TZID=Australia/Brisbane:20280621T190000
DTEND;TZID=Australia/Brisbane:20280621T210000
DTSTAMP:20260421T013231
CREATED:20230810T031517Z
LAST-MODIFIED:20240510T010703Z
UID:10003291-1845226800-1845234000@oslc.org.au
SUMMARY:Governance Council Meeting
DESCRIPTION:The Governance Council is elected by voting members of the congregation and meet monthly to discuss the activities of the congregation and ensure alignment with our strategic direction.
URL:https://oslc.org.au/event/governance-council-meeting-2/2028-06-21/
CATEGORIES:Administration,GROUPS,Interests & Passions
END:VEVENT
BEGIN:VEVENT
DTSTART;TZID=Australia/Brisbane:20280719T190000
DTEND;TZID=Australia/Brisbane:20280719T210000
DTSTAMP:20260421T013231
CREATED:20230810T031517Z
LAST-MODIFIED:20240510T010703Z
UID:10003292-1847646000-1847653200@oslc.org.au
SUMMARY:Governance Council Meeting
DESCRIPTION:The Governance Council is elected by voting members of the congregation and meet monthly to discuss the activities of the congregation and ensure alignment with our strategic direction.
URL:https://oslc.org.au/event/governance-council-meeting-2/2028-07-19/
CATEGORIES:Administration,GROUPS,Interests & Passions
END:VEVENT
BEGIN:VEVENT
DTSTART;TZID=Australia/Brisbane:20280816T190000
DTEND;TZID=Australia/Brisbane:20280816T210000
DTSTAMP:20260421T013231
CREATED:20230810T031517Z
LAST-MODIFIED:20240510T010703Z
UID:10003293-1850065200-1850072400@oslc.org.au
SUMMARY:Governance Council Meeting
DESCRIPTION:The Governance Council is elected by voting members of the congregation and meet monthly to discuss the activities of the congregation and ensure alignment with our strategic direction.
URL:https://oslc.org.au/event/governance-council-meeting-2/2028-08-16/
CATEGORIES:Administration,GROUPS,Interests & Passions
END:VEVENT
BEGIN:VEVENT
DTSTART;TZID=Australia/Brisbane:20281022T101500
DTEND;TZID=Australia/Brisbane:20281022T123000
DTSTAMP:20260421T013231
CREATED:20241014T051451Z
LAST-MODIFIED:20241014T051452Z
UID:10007843-1855822500-1855830600@oslc.org.au
SUMMARY:OSLC Half-Yearly General Meeting
DESCRIPTION:Our Saviour has a General Meeting twice a year. The annual meeting\, generally held on the first weekend of March elects the officers of our congregation and the main business for the half-year meeting is approval of the congregation budget for the following year. Both meetings will also discuss other business pertinent to the time.
URL:https://oslc.org.au/event/oslc-half-yearly-general-meeting-2/2028-10-22/
CATEGORIES:Administration,Community Events,GROUPS,Interests & Passions,Serving the Community
END:VEVENT
BEGIN:VEVENT
DTSTART;TZID=Australia/Brisbane:20291028T101500
DTEND;TZID=Australia/Brisbane:20291028T123000
DTSTAMP:20260421T013231
CREATED:20241014T051451Z
LAST-MODIFIED:20241014T051452Z
UID:10007844-1887876900-1887885000@oslc.org.au
SUMMARY:OSLC Half-Yearly General Meeting
DESCRIPTION:Our Saviour has a General Meeting twice a year. The annual meeting\, generally held on the first weekend of March elects the officers of our congregation and the main business for the half-year meeting is approval of the congregation budget for the following year. Both meetings will also discuss other business pertinent to the time.
URL:https://oslc.org.au/event/oslc-half-yearly-general-meeting-2/2029-10-28/
CATEGORIES:Administration,Community Events,GROUPS,Interests & Passions,Serving the Community
END:VEVENT
BEGIN:VEVENT
DTSTART;TZID=Australia/Brisbane:20301027T101500
DTEND;TZID=Australia/Brisbane:20301027T123000
DTSTAMP:20260421T013231
CREATED:20241014T051451Z
LAST-MODIFIED:20241014T051452Z
UID:10007845-1919326500-1919334600@oslc.org.au
SUMMARY:OSLC Half-Yearly General Meeting
DESCRIPTION:Our Saviour has a General Meeting twice a year. The annual meeting\, generally held on the first weekend of March elects the officers of our congregation and the main business for the half-year meeting is approval of the congregation budget for the following year. Both meetings will also discuss other business pertinent to the time.
URL:https://oslc.org.au/event/oslc-half-yearly-general-meeting-2/2030-10-27/
CATEGORIES:Administration,Community Events,GROUPS,Interests & Passions,Serving the Community
END:VEVENT
BEGIN:VEVENT
DTSTART;TZID=Australia/Brisbane:20311026T101500
DTEND;TZID=Australia/Brisbane:20311026T123000
DTSTAMP:20260421T013231
CREATED:20241014T051451Z
LAST-MODIFIED:20241014T051452Z
UID:10007846-1950776100-1950784200@oslc.org.au
SUMMARY:OSLC Half-Yearly General Meeting
DESCRIPTION:Our Saviour has a General Meeting twice a year. The annual meeting\, generally held on the first weekend of March elects the officers of our congregation and the main business for the half-year meeting is approval of the congregation budget for the following year. Both meetings will also discuss other business pertinent to the time.
URL:https://oslc.org.au/event/oslc-half-yearly-general-meeting-2/2031-10-26/
CATEGORIES:Administration,Community Events,GROUPS,Interests & Passions,Serving the Community
END:VEVENT
BEGIN:VEVENT
DTSTART;TZID=Australia/Brisbane:20321024T101500
DTEND;TZID=Australia/Brisbane:20321024T123000
DTSTAMP:20260421T013231
CREATED:20241014T051451Z
LAST-MODIFIED:20241014T051452Z
UID:10007847-1982225700-1982233800@oslc.org.au
SUMMARY:OSLC Half-Yearly General Meeting
DESCRIPTION:Our Saviour has a General Meeting twice a year. The annual meeting\, generally held on the first weekend of March elects the officers of our congregation and the main business for the half-year meeting is approval of the congregation budget for the following year. Both meetings will also discuss other business pertinent to the time.
URL:https://oslc.org.au/event/oslc-half-yearly-general-meeting-2/2032-10-24/
CATEGORIES:Administration,Community Events,GROUPS,Interests & Passions,Serving the Community
END:VEVENT
END:VCALENDAR