BEGIN:VCALENDAR
VERSION:2.0
PRODID:-//Our Saviour Lutheran Church Rochedale - ECPv6.4.0.1//NONSGML v1.0//EN
CALSCALE:GREGORIAN
METHOD:PUBLISH
X-ORIGINAL-URL:https://oslc.org.au
X-WR-CALDESC:Events for Our Saviour Lutheran Church Rochedale
REFRESH-INTERVAL;VALUE=DURATION:PT1H
X-Robots-Tag:noindex
X-PUBLISHED-TTL:PT1H
BEGIN:VTIMEZONE
TZID:Australia/Brisbane
BEGIN:STANDARD
TZOFFSETFROM:+1000
TZOFFSETTO:+1000
TZNAME:AEST
DTSTART:20260101T000000
END:STANDARD
END:VTIMEZONE
BEGIN:VEVENT
DTSTART;TZID=Australia/Brisbane:20260318T190000
DTEND;TZID=Australia/Brisbane:20260318T210000
DTSTAMP:20260421T063604
CREATED:20230810T031517Z
LAST-MODIFIED:20240510T010703Z
UID:10003264-1773860400-1773867600@oslc.org.au
SUMMARY:Governance Council Meeting
DESCRIPTION:The Governance Council is elected by voting members of the congregation and meet monthly to discuss the activities of the congregation and ensure alignment with our strategic direction.
URL:https://oslc.org.au/event/governance-council-meeting-2/2026-03-18/
CATEGORIES:Administration,GROUPS,Interests & Passions
END:VEVENT
END:VCALENDAR