BEGIN:VCALENDAR
VERSION:2.0
PRODID:-//Our Saviour Lutheran Church Rochedale - ECPv6.4.0.1//NONSGML v1.0//EN
CALSCALE:GREGORIAN
METHOD:PUBLISH
X-ORIGINAL-URL:https://oslc.org.au
X-WR-CALDESC:Events for Our Saviour Lutheran Church Rochedale
REFRESH-INTERVAL;VALUE=DURATION:PT1H
X-Robots-Tag:noindex
X-PUBLISHED-TTL:PT1H
BEGIN:VTIMEZONE
TZID:Australia/Brisbane
BEGIN:STANDARD
TZOFFSETFROM:+1000
TZOFFSETTO:+1000
TZNAME:AEST
DTSTART:20260101T000000
END:STANDARD
END:VTIMEZONE
BEGIN:VEVENT
DTSTART;TZID=Australia/Brisbane:20260701T085000
DTEND;TZID=Australia/Brisbane:20260701T093000
DTSTAMP:20260425T015907
CREATED:20240509T052624Z
LAST-MODIFIED:20240517T060247Z
UID:10007514-1782895800-1782898200@oslc.org.au
SUMMARY:Wednesday Chapel Morning Tea
DESCRIPTION:Following Wednesday morning junior school chapel\, Our Saviour hosts a morning tea for parents and friends. Join us for a cuppa and some time for connection as we get to know each other!
URL:https://oslc.org.au/event/wednesday-chapel-morning-tea-2/2026-07-01/
CATEGORIES:Community Events,GROWING,Hospitality,Service,Serving the Community
END:VEVENT
BEGIN:VEVENT
DTSTART;TZID=Australia/Brisbane:20260708T085000
DTEND;TZID=Australia/Brisbane:20260708T093000
DTSTAMP:20260425T015907
CREATED:20240509T052624Z
LAST-MODIFIED:20240517T060247Z
UID:10007515-1783500600-1783503000@oslc.org.au
SUMMARY:Wednesday Chapel Morning Tea
DESCRIPTION:Following Wednesday morning junior school chapel\, Our Saviour hosts a morning tea for parents and friends. Join us for a cuppa and some time for connection as we get to know each other!
URL:https://oslc.org.au/event/wednesday-chapel-morning-tea-2/2026-07-08/
CATEGORIES:Community Events,GROWING,Hospitality,Service,Serving the Community
END:VEVENT
BEGIN:VEVENT
DTSTART;TZID=Australia/Brisbane:20260715T085000
DTEND;TZID=Australia/Brisbane:20260715T093000
DTSTAMP:20260425T015907
CREATED:20240509T052624Z
LAST-MODIFIED:20240517T060247Z
UID:10007516-1784105400-1784107800@oslc.org.au
SUMMARY:Wednesday Chapel Morning Tea
DESCRIPTION:Following Wednesday morning junior school chapel\, Our Saviour hosts a morning tea for parents and friends. Join us for a cuppa and some time for connection as we get to know each other!
URL:https://oslc.org.au/event/wednesday-chapel-morning-tea-2/2026-07-15/
CATEGORIES:Community Events,GROWING,Hospitality,Service,Serving the Community
END:VEVENT
BEGIN:VEVENT
DTSTART;TZID=Australia/Brisbane:20260722T085000
DTEND;TZID=Australia/Brisbane:20260722T093000
DTSTAMP:20260425T015907
CREATED:20240509T052624Z
LAST-MODIFIED:20240517T060247Z
UID:10007517-1784710200-1784712600@oslc.org.au
SUMMARY:Wednesday Chapel Morning Tea
DESCRIPTION:Following Wednesday morning junior school chapel\, Our Saviour hosts a morning tea for parents and friends. Join us for a cuppa and some time for connection as we get to know each other!
URL:https://oslc.org.au/event/wednesday-chapel-morning-tea-2/2026-07-22/
CATEGORIES:Community Events,GROWING,Hospitality,Service,Serving the Community
END:VEVENT
BEGIN:VEVENT
DTSTART;TZID=Australia/Brisbane:20260729T085000
DTEND;TZID=Australia/Brisbane:20260729T093000
DTSTAMP:20260425T015907
CREATED:20240509T052624Z
LAST-MODIFIED:20240517T060247Z
UID:10007518-1785315000-1785317400@oslc.org.au
SUMMARY:Wednesday Chapel Morning Tea
DESCRIPTION:Following Wednesday morning junior school chapel\, Our Saviour hosts a morning tea for parents and friends. Join us for a cuppa and some time for connection as we get to know each other!
URL:https://oslc.org.au/event/wednesday-chapel-morning-tea-2/2026-07-29/
CATEGORIES:Community Events,GROWING,Hospitality,Service,Serving the Community
END:VEVENT
END:VCALENDAR