BEGIN:VCALENDAR
VERSION:2.0
PRODID:-//Our Saviour Lutheran Church Rochedale - ECPv6.4.0.1//NONSGML v1.0//EN
CALSCALE:GREGORIAN
METHOD:PUBLISH
X-ORIGINAL-URL:https://oslc.org.au
X-WR-CALDESC:Events for Our Saviour Lutheran Church Rochedale
REFRESH-INTERVAL;VALUE=DURATION:PT1H
X-Robots-Tag:noindex
X-PUBLISHED-TTL:PT1H
BEGIN:VTIMEZONE
TZID:Australia/Brisbane
BEGIN:STANDARD
TZOFFSETFROM:+1000
TZOFFSETTO:+1000
TZNAME:AEST
DTSTART:20250101T000000
END:STANDARD
END:VTIMEZONE
BEGIN:VEVENT
DTSTART;TZID=Australia/Brisbane:20251204T093000
DTEND;TZID=Australia/Brisbane:20251204T113000
DTSTAMP:20260425T135355
CREATED:20230810T031533Z
LAST-MODIFIED:20240510T010135Z
UID:10004170-1764840600-1764847800@oslc.org.au
SUMMARY:Thursday Ladies - Bible Study
DESCRIPTION:Thursday\, our ladies gather together for a time of fellowship and bible study\, enjoyed by all!
URL:https://oslc.org.au/event/thursday-ladies-bible-study/2025-12-04/
LOCATION:Doorways
CATEGORIES:Care,Exploring Faith,GROUPS,GROWING,Home Group,Learning,Life Stages,Prayer,Women
END:VEVENT
BEGIN:VEVENT
DTSTART;TZID=Australia/Brisbane:20251206T090000
DTEND;TZID=Australia/Brisbane:20251206T100000
DTSTAMP:20260425T135355
CREATED:20230810T031602Z
LAST-MODIFIED:20230831T040259Z
UID:10004659-1765011600-1765015200@oslc.org.au
SUMMARY:Rubies - Women's Bible Study
DESCRIPTION:A group of women get together monthly in a bible study group to explore God’s word. Recently they have been studying the women of bible.
URL:https://oslc.org.au/event/rubies-womens-bible-study/2025-12-06/
LOCATION:St John’s Eight Mile Plains
CATEGORIES:Exploring Faith,Home Group,Life Stages,Women
END:VEVENT
BEGIN:VEVENT
DTSTART;TZID=Australia/Brisbane:20251211T093000
DTEND;TZID=Australia/Brisbane:20251211T113000
DTSTAMP:20260425T135355
CREATED:20230810T031533Z
LAST-MODIFIED:20240510T010135Z
UID:10004171-1765445400-1765452600@oslc.org.au
SUMMARY:Thursday Ladies - Bible Study
DESCRIPTION:Thursday\, our ladies gather together for a time of fellowship and bible study\, enjoyed by all!
URL:https://oslc.org.au/event/thursday-ladies-bible-study/2025-12-11/
LOCATION:Doorways
CATEGORIES:Care,Exploring Faith,GROUPS,GROWING,Home Group,Learning,Life Stages,Prayer,Women
END:VEVENT
BEGIN:VEVENT
DTSTART;TZID=Australia/Brisbane:20251218T093000
DTEND;TZID=Australia/Brisbane:20251218T113000
DTSTAMP:20260425T135355
CREATED:20230810T031533Z
LAST-MODIFIED:20240510T010135Z
UID:10004172-1766050200-1766057400@oslc.org.au
SUMMARY:Thursday Ladies - Bible Study
DESCRIPTION:Thursday\, our ladies gather together for a time of fellowship and bible study\, enjoyed by all!
URL:https://oslc.org.au/event/thursday-ladies-bible-study/2025-12-18/
LOCATION:Doorways
CATEGORIES:Care,Exploring Faith,GROUPS,GROWING,Home Group,Learning,Life Stages,Prayer,Women
END:VEVENT
BEGIN:VEVENT
DTSTART;TZID=Australia/Brisbane:20251225T093000
DTEND;TZID=Australia/Brisbane:20251225T113000
DTSTAMP:20260425T135355
CREATED:20230810T031533Z
LAST-MODIFIED:20240510T010135Z
UID:10004173-1766655000-1766662200@oslc.org.au
SUMMARY:Thursday Ladies - Bible Study
DESCRIPTION:Thursday\, our ladies gather together for a time of fellowship and bible study\, enjoyed by all!
URL:https://oslc.org.au/event/thursday-ladies-bible-study/2025-12-25/
LOCATION:Doorways
CATEGORIES:Care,Exploring Faith,GROUPS,GROWING,Home Group,Learning,Life Stages,Prayer,Women
END:VEVENT
END:VCALENDAR