BEGIN:VCALENDAR
VERSION:2.0
PRODID:-//Our Saviour Lutheran Church Rochedale - ECPv6.4.0.1//NONSGML v1.0//EN
CALSCALE:GREGORIAN
METHOD:PUBLISH
X-WR-CALNAME:Our Saviour Lutheran Church Rochedale
X-ORIGINAL-URL:https://oslc.org.au
X-WR-CALDESC:Events for Our Saviour Lutheran Church Rochedale
REFRESH-INTERVAL;VALUE=DURATION:PT1H
X-Robots-Tag:noindex
X-PUBLISHED-TTL:PT1H
BEGIN:VTIMEZONE
TZID:Australia/Brisbane
BEGIN:STANDARD
TZOFFSETFROM:+1000
TZOFFSETTO:+1000
TZNAME:AEST
DTSTART:20250101T000000
END:STANDARD
END:VTIMEZONE
BEGIN:VEVENT
DTSTART;TZID=Australia/Brisbane:20250703T093000
DTEND;TZID=Australia/Brisbane:20250703T113000
DTSTAMP:20260425T230715
CREATED:20230810T031533Z
LAST-MODIFIED:20240510T010135Z
UID:10004148-1751535000-1751542200@oslc.org.au
SUMMARY:Thursday Ladies - Bible Study
DESCRIPTION:Thursday\, our ladies gather together for a time of fellowship and bible study\, enjoyed by all!
URL:https://oslc.org.au/event/thursday-ladies-bible-study/2025-07-03/
LOCATION:Doorways
CATEGORIES:Care,Exploring Faith,GROUPS,GROWING,Home Group,Learning,Life Stages,Prayer,Women
END:VEVENT
BEGIN:VEVENT
DTSTART;TZID=Australia/Brisbane:20250705T090000
DTEND;TZID=Australia/Brisbane:20250705T100000
DTSTAMP:20260425T230715
CREATED:20230810T031602Z
LAST-MODIFIED:20230831T040259Z
UID:10004654-1751706000-1751709600@oslc.org.au
SUMMARY:Rubies - Women's Bible Study
DESCRIPTION:A group of women get together monthly in a bible study group to explore God’s word. Recently they have been studying the women of bible.
URL:https://oslc.org.au/event/rubies-womens-bible-study/2025-07-05/
LOCATION:St John’s Eight Mile Plains
CATEGORIES:Exploring Faith,Home Group,Life Stages,Women
END:VEVENT
END:VCALENDAR