BEGIN:VCALENDAR
VERSION:2.0
PRODID:-//Our Saviour Lutheran Church Rochedale - ECPv6.4.0.1//NONSGML v1.0//EN
CALSCALE:GREGORIAN
METHOD:PUBLISH
X-WR-CALNAME:Our Saviour Lutheran Church Rochedale
X-ORIGINAL-URL:https://oslc.org.au
X-WR-CALDESC:Events for Our Saviour Lutheran Church Rochedale
REFRESH-INTERVAL;VALUE=DURATION:PT1H
X-Robots-Tag:noindex
X-PUBLISHED-TTL:PT1H
BEGIN:VTIMEZONE
TZID:Australia/Brisbane
BEGIN:STANDARD
TZOFFSETFROM:+1000
TZOFFSETTO:+1000
TZNAME:AEST
DTSTART:20230101T000000
END:STANDARD
END:VTIMEZONE
BEGIN:VEVENT
DTSTART;TZID=Australia/Brisbane:20250401T093000
DTEND;TZID=Australia/Brisbane:20250401T113000
DTSTAMP:20260424T180344
CREATED:20230810T031617Z
LAST-MODIFIED:20240510T003216Z
UID:10004469-1743499800-1743507000@oslc.org.au
SUMMARY:Picnic Group
DESCRIPTION:There’s a community Picnic once a month\, particularly for those who find it difficult to get out of their homes and who look forward to some sunshine and social interaction. We can arrange transport for you!
URL:https://oslc.org.au/event/picnic-group/2025-04-01/
LOCATION:Stan & Gwen’s
CATEGORIES:Care,Community Events,GROUPS,Hospitality,Life Stages,Retirees
END:VEVENT
BEGIN:VEVENT
DTSTART;TZID=Australia/Brisbane:20250304T093000
DTEND;TZID=Australia/Brisbane:20250304T113000
DTSTAMP:20260424T180344
CREATED:20230810T031617Z
LAST-MODIFIED:20240510T003216Z
UID:10004468-1741080600-1741087800@oslc.org.au
SUMMARY:Picnic Group
DESCRIPTION:There’s a community Picnic once a month\, particularly for those who find it difficult to get out of their homes and who look forward to some sunshine and social interaction. We can arrange transport for you!
URL:https://oslc.org.au/event/picnic-group/2025-03-04/
LOCATION:Stan & Gwen’s
CATEGORIES:Care,Community Events,GROUPS,Hospitality,Life Stages,Retirees
END:VEVENT
BEGIN:VEVENT
DTSTART;TZID=Australia/Brisbane:20250204T093000
DTEND;TZID=Australia/Brisbane:20250204T113000
DTSTAMP:20260424T180344
CREATED:20230810T031617Z
LAST-MODIFIED:20240510T003216Z
UID:10004467-1738661400-1738668600@oslc.org.au
SUMMARY:Picnic Group
DESCRIPTION:There’s a community Picnic once a month\, particularly for those who find it difficult to get out of their homes and who look forward to some sunshine and social interaction. We can arrange transport for you!
URL:https://oslc.org.au/event/picnic-group/2025-02-04/
LOCATION:Stan & Gwen’s
CATEGORIES:Care,Community Events,GROUPS,Hospitality,Life Stages,Retirees
END:VEVENT
BEGIN:VEVENT
DTSTART;TZID=Australia/Brisbane:20250107T093000
DTEND;TZID=Australia/Brisbane:20250107T113000
DTSTAMP:20260424T180344
CREATED:20230810T031617Z
LAST-MODIFIED:20240510T003216Z
UID:10004466-1736242200-1736249400@oslc.org.au
SUMMARY:Picnic Group
DESCRIPTION:There’s a community Picnic once a month\, particularly for those who find it difficult to get out of their homes and who look forward to some sunshine and social interaction. We can arrange transport for you!
URL:https://oslc.org.au/event/picnic-group/2025-01-07/
LOCATION:Stan & Gwen’s
CATEGORIES:Care,Community Events,GROUPS,Hospitality,Life Stages,Retirees
END:VEVENT
BEGIN:VEVENT
DTSTART;TZID=Australia/Brisbane:20241203T093000
DTEND;TZID=Australia/Brisbane:20241203T113000
DTSTAMP:20260424T180344
CREATED:20230810T031617Z
LAST-MODIFIED:20240510T003216Z
UID:10004465-1733218200-1733225400@oslc.org.au
SUMMARY:Picnic Group
DESCRIPTION:There’s a community Picnic once a month\, particularly for those who find it difficult to get out of their homes and who look forward to some sunshine and social interaction. We can arrange transport for you!
URL:https://oslc.org.au/event/picnic-group/2024-12-03/
LOCATION:Stan & Gwen’s
CATEGORIES:Care,Community Events,GROUPS,Hospitality,Life Stages,Retirees
END:VEVENT
BEGIN:VEVENT
DTSTART;TZID=Australia/Brisbane:20241105T093000
DTEND;TZID=Australia/Brisbane:20241105T113000
DTSTAMP:20260424T180344
CREATED:20230810T031617Z
LAST-MODIFIED:20240510T003216Z
UID:10004464-1730799000-1730806200@oslc.org.au
SUMMARY:Picnic Group
DESCRIPTION:There’s a community Picnic once a month\, particularly for those who find it difficult to get out of their homes and who look forward to some sunshine and social interaction. We can arrange transport for you!
URL:https://oslc.org.au/event/picnic-group/2024-11-05/
LOCATION:Stan & Gwen’s
CATEGORIES:Care,Community Events,GROUPS,Hospitality,Life Stages,Retirees
END:VEVENT
BEGIN:VEVENT
DTSTART;TZID=Australia/Brisbane:20241001T093000
DTEND;TZID=Australia/Brisbane:20241001T113000
DTSTAMP:20260424T180344
CREATED:20230810T031617Z
LAST-MODIFIED:20240510T003216Z
UID:10004463-1727775000-1727782200@oslc.org.au
SUMMARY:Picnic Group
DESCRIPTION:There’s a community Picnic once a month\, particularly for those who find it difficult to get out of their homes and who look forward to some sunshine and social interaction. We can arrange transport for you!
URL:https://oslc.org.au/event/picnic-group/2024-10-01/
LOCATION:Stan & Gwen’s
CATEGORIES:Care,Community Events,GROUPS,Hospitality,Life Stages,Retirees
END:VEVENT
BEGIN:VEVENT
DTSTART;TZID=Australia/Brisbane:20240903T093000
DTEND;TZID=Australia/Brisbane:20240903T113000
DTSTAMP:20260424T180344
CREATED:20230810T031617Z
LAST-MODIFIED:20240510T003216Z
UID:10004462-1725355800-1725363000@oslc.org.au
SUMMARY:Picnic Group
DESCRIPTION:There’s a community Picnic once a month\, particularly for those who find it difficult to get out of their homes and who look forward to some sunshine and social interaction. We can arrange transport for you!
URL:https://oslc.org.au/event/picnic-group/2024-09-03/
LOCATION:Stan & Gwen’s
CATEGORIES:Care,Community Events,GROUPS,Hospitality,Life Stages,Retirees
END:VEVENT
BEGIN:VEVENT
DTSTART;TZID=Australia/Brisbane:20240806T093000
DTEND;TZID=Australia/Brisbane:20240806T113000
DTSTAMP:20260424T180344
CREATED:20230810T031617Z
LAST-MODIFIED:20240510T003216Z
UID:10004461-1722936600-1722943800@oslc.org.au
SUMMARY:Picnic Group
DESCRIPTION:There’s a community Picnic once a month\, particularly for those who find it difficult to get out of their homes and who look forward to some sunshine and social interaction. We can arrange transport for you!
URL:https://oslc.org.au/event/picnic-group/2024-08-06/
LOCATION:Stan & Gwen’s
CATEGORIES:Care,Community Events,GROUPS,Hospitality,Life Stages,Retirees
END:VEVENT
BEGIN:VEVENT
DTSTART;TZID=Australia/Brisbane:20240702T093000
DTEND;TZID=Australia/Brisbane:20240702T113000
DTSTAMP:20260424T180344
CREATED:20230810T031617Z
LAST-MODIFIED:20240510T003216Z
UID:10004460-1719912600-1719919800@oslc.org.au
SUMMARY:Picnic Group
DESCRIPTION:There’s a community Picnic once a month\, particularly for those who find it difficult to get out of their homes and who look forward to some sunshine and social interaction. We can arrange transport for you!
URL:https://oslc.org.au/event/picnic-group/2024-07-02/
LOCATION:Stan & Gwen’s
CATEGORIES:Care,Community Events,GROUPS,Hospitality,Life Stages,Retirees
END:VEVENT
BEGIN:VEVENT
DTSTART;TZID=Australia/Brisbane:20240604T093000
DTEND;TZID=Australia/Brisbane:20240604T113000
DTSTAMP:20260424T180344
CREATED:20230810T031617Z
LAST-MODIFIED:20240510T003216Z
UID:10004459-1717493400-1717500600@oslc.org.au
SUMMARY:Picnic Group
DESCRIPTION:There’s a community Picnic once a month\, particularly for those who find it difficult to get out of their homes and who look forward to some sunshine and social interaction. We can arrange transport for you!
URL:https://oslc.org.au/event/picnic-group/2024-06-04/
LOCATION:Stan & Gwen’s
CATEGORIES:Care,Community Events,GROUPS,Hospitality,Life Stages,Retirees
END:VEVENT
BEGIN:VEVENT
DTSTART;TZID=Australia/Brisbane:20240507T093000
DTEND;TZID=Australia/Brisbane:20240507T113000
DTSTAMP:20260424T180344
CREATED:20230810T031617Z
LAST-MODIFIED:20240510T003216Z
UID:10004458-1715074200-1715081400@oslc.org.au
SUMMARY:Picnic Group
DESCRIPTION:There’s a community Picnic once a month\, particularly for those who find it difficult to get out of their homes and who look forward to some sunshine and social interaction. We can arrange transport for you!
URL:https://oslc.org.au/event/picnic-group/2024-05-07/
LOCATION:Stan & Gwen’s
CATEGORIES:Care,Community Events,GROUPS,Hospitality,Life Stages,Retirees
END:VEVENT
BEGIN:VEVENT
DTSTART;TZID=Australia/Brisbane:20240402T093000
DTEND;TZID=Australia/Brisbane:20240402T113000
DTSTAMP:20260424T180344
CREATED:20230810T031617Z
LAST-MODIFIED:20240510T003216Z
UID:10004457-1712050200-1712057400@oslc.org.au
SUMMARY:Picnic Group
DESCRIPTION:There’s a community Picnic once a month\, particularly for those who find it difficult to get out of their homes and who look forward to some sunshine and social interaction. We can arrange transport for you!
URL:https://oslc.org.au/event/picnic-group/2024-04-02/
LOCATION:Stan & Gwen’s
CATEGORIES:Care,Community Events,GROUPS,Hospitality,Life Stages,Retirees
END:VEVENT
BEGIN:VEVENT
DTSTART;TZID=Australia/Brisbane:20240305T093000
DTEND;TZID=Australia/Brisbane:20240305T113000
DTSTAMP:20260424T180344
CREATED:20230810T031617Z
LAST-MODIFIED:20240510T003216Z
UID:10004456-1709631000-1709638200@oslc.org.au
SUMMARY:Picnic Group
DESCRIPTION:There’s a community Picnic once a month\, particularly for those who find it difficult to get out of their homes and who look forward to some sunshine and social interaction. We can arrange transport for you!
URL:https://oslc.org.au/event/picnic-group/2024-03-05/
LOCATION:Stan & Gwen’s
CATEGORIES:Care,Community Events,GROUPS,Hospitality,Life Stages,Retirees
END:VEVENT
BEGIN:VEVENT
DTSTART;TZID=Australia/Brisbane:20240206T093000
DTEND;TZID=Australia/Brisbane:20240206T113000
DTSTAMP:20260424T180344
CREATED:20230810T031617Z
LAST-MODIFIED:20240510T003216Z
UID:10004455-1707211800-1707219000@oslc.org.au
SUMMARY:Picnic Group
DESCRIPTION:There’s a community Picnic once a month\, particularly for those who find it difficult to get out of their homes and who look forward to some sunshine and social interaction. We can arrange transport for you!
URL:https://oslc.org.au/event/picnic-group/2024-02-06/
LOCATION:Stan & Gwen’s
CATEGORIES:Care,Community Events,GROUPS,Hospitality,Life Stages,Retirees
END:VEVENT
BEGIN:VEVENT
DTSTART;TZID=Australia/Brisbane:20240102T093000
DTEND;TZID=Australia/Brisbane:20240102T113000
DTSTAMP:20260424T180344
CREATED:20230810T031617Z
LAST-MODIFIED:20240510T003216Z
UID:10004454-1704187800-1704195000@oslc.org.au
SUMMARY:Picnic Group
DESCRIPTION:There’s a community Picnic once a month\, particularly for those who find it difficult to get out of their homes and who look forward to some sunshine and social interaction. We can arrange transport for you!
URL:https://oslc.org.au/event/picnic-group/2024-01-02/
LOCATION:Stan & Gwen’s
CATEGORIES:Care,Community Events,GROUPS,Hospitality,Life Stages,Retirees
END:VEVENT
BEGIN:VEVENT
DTSTART;TZID=Australia/Brisbane:20231205T093000
DTEND;TZID=Australia/Brisbane:20231205T113000
DTSTAMP:20260424T180344
CREATED:20230810T031617Z
LAST-MODIFIED:20240510T003216Z
UID:10004453-1701768600-1701775800@oslc.org.au
SUMMARY:Picnic Group
DESCRIPTION:There’s a community Picnic once a month\, particularly for those who find it difficult to get out of their homes and who look forward to some sunshine and social interaction. We can arrange transport for you!
URL:https://oslc.org.au/event/picnic-group/2023-12-05/
LOCATION:Stan & Gwen’s
CATEGORIES:Care,Community Events,GROUPS,Hospitality,Life Stages,Retirees
END:VEVENT
BEGIN:VEVENT
DTSTART;TZID=Australia/Brisbane:20231107T093000
DTEND;TZID=Australia/Brisbane:20231107T113000
DTSTAMP:20260424T180344
CREATED:20230810T031617Z
LAST-MODIFIED:20240510T003216Z
UID:10004452-1699349400-1699356600@oslc.org.au
SUMMARY:Picnic Group
DESCRIPTION:There’s a community Picnic once a month\, particularly for those who find it difficult to get out of their homes and who look forward to some sunshine and social interaction. We can arrange transport for you!
URL:https://oslc.org.au/event/picnic-group/2023-11-07/
LOCATION:Stan & Gwen’s
CATEGORIES:Care,Community Events,GROUPS,Hospitality,Life Stages,Retirees
END:VEVENT
BEGIN:VEVENT
DTSTART;TZID=Australia/Brisbane:20231003T093000
DTEND;TZID=Australia/Brisbane:20231003T113000
DTSTAMP:20260424T180344
CREATED:20230810T031617Z
LAST-MODIFIED:20240510T003216Z
UID:10004451-1696325400-1696332600@oslc.org.au
SUMMARY:Picnic Group
DESCRIPTION:There’s a community Picnic once a month\, particularly for those who find it difficult to get out of their homes and who look forward to some sunshine and social interaction. We can arrange transport for you!
URL:https://oslc.org.au/event/picnic-group/2023-10-03/
LOCATION:Stan & Gwen’s
CATEGORIES:Care,Community Events,GROUPS,Hospitality,Life Stages,Retirees
END:VEVENT
BEGIN:VEVENT
DTSTART;TZID=Australia/Brisbane:20230905T093000
DTEND;TZID=Australia/Brisbane:20230905T113000
DTSTAMP:20260424T180344
CREATED:20230810T031617Z
LAST-MODIFIED:20240510T003216Z
UID:10001408-1693906200-1693913400@oslc.org.au
SUMMARY:Picnic Group
DESCRIPTION:There’s a community Picnic once a month\, particularly for those who find it difficult to get out of their homes and who look forward to some sunshine and social interaction. We can arrange transport for you!
URL:https://oslc.org.au/event/picnic-group/2023-09-05/
LOCATION:Stan & Gwen’s
CATEGORIES:Care,Community Events,GROUPS,Hospitality,Life Stages,Retirees
END:VEVENT
END:VCALENDAR