BEGIN:VCALENDAR
VERSION:2.0
PRODID:-//Our Saviour Lutheran Church Rochedale - ECPv6.4.0.1//NONSGML v1.0//EN
CALSCALE:GREGORIAN
METHOD:PUBLISH
X-WR-CALNAME:Our Saviour Lutheran Church Rochedale
X-ORIGINAL-URL:https://oslc.org.au
X-WR-CALDESC:Events for Our Saviour Lutheran Church Rochedale
REFRESH-INTERVAL;VALUE=DURATION:PT1H
X-Robots-Tag:noindex
X-PUBLISHED-TTL:PT1H
BEGIN:VTIMEZONE
TZID:Australia/Brisbane
BEGIN:STANDARD
TZOFFSETFROM:+1000
TZOFFSETTO:+1000
TZNAME:AEST
DTSTART:20270101T000000
END:STANDARD
END:VTIMEZONE
BEGIN:VEVENT
DTSTART;TZID=Australia/Brisbane:20270504T093000
DTEND;TZID=Australia/Brisbane:20270504T113000
DTSTAMP:20260424T170337
CREATED:20230810T031617Z
LAST-MODIFIED:20240510T003216Z
UID:10004494-1809423000-1809430200@oslc.org.au
SUMMARY:Picnic Group
DESCRIPTION:There’s a community Picnic once a month\, particularly for those who find it difficult to get out of their homes and who look forward to some sunshine and social interaction. We can arrange transport for you!
URL:https://oslc.org.au/event/picnic-group/2027-05-04/
LOCATION:Stan & Gwen’s
CATEGORIES:Care,Community Events,GROUPS,Hospitality,Life Stages,Retirees
END:VEVENT
BEGIN:VEVENT
DTSTART;TZID=Australia/Brisbane:20270601T093000
DTEND;TZID=Australia/Brisbane:20270601T113000
DTSTAMP:20260424T170337
CREATED:20230810T031617Z
LAST-MODIFIED:20240510T003216Z
UID:10004495-1811842200-1811849400@oslc.org.au
SUMMARY:Picnic Group
DESCRIPTION:There’s a community Picnic once a month\, particularly for those who find it difficult to get out of their homes and who look forward to some sunshine and social interaction. We can arrange transport for you!
URL:https://oslc.org.au/event/picnic-group/2027-06-01/
LOCATION:Stan & Gwen’s
CATEGORIES:Care,Community Events,GROUPS,Hospitality,Life Stages,Retirees
END:VEVENT
BEGIN:VEVENT
DTSTART;TZID=Australia/Brisbane:20270706T093000
DTEND;TZID=Australia/Brisbane:20270706T113000
DTSTAMP:20260424T170337
CREATED:20230810T031617Z
LAST-MODIFIED:20240510T003216Z
UID:10004496-1814866200-1814873400@oslc.org.au
SUMMARY:Picnic Group
DESCRIPTION:There’s a community Picnic once a month\, particularly for those who find it difficult to get out of their homes and who look forward to some sunshine and social interaction. We can arrange transport for you!
URL:https://oslc.org.au/event/picnic-group/2027-07-06/
LOCATION:Stan & Gwen’s
CATEGORIES:Care,Community Events,GROUPS,Hospitality,Life Stages,Retirees
END:VEVENT
BEGIN:VEVENT
DTSTART;TZID=Australia/Brisbane:20270803T093000
DTEND;TZID=Australia/Brisbane:20270803T113000
DTSTAMP:20260424T170338
CREATED:20230810T031617Z
LAST-MODIFIED:20240510T003216Z
UID:10004497-1817285400-1817292600@oslc.org.au
SUMMARY:Picnic Group
DESCRIPTION:There’s a community Picnic once a month\, particularly for those who find it difficult to get out of their homes and who look forward to some sunshine and social interaction. We can arrange transport for you!
URL:https://oslc.org.au/event/picnic-group/2027-08-03/
LOCATION:Stan & Gwen’s
CATEGORIES:Care,Community Events,GROUPS,Hospitality,Life Stages,Retirees
END:VEVENT
BEGIN:VEVENT
DTSTART;TZID=Australia/Brisbane:20270907T093000
DTEND;TZID=Australia/Brisbane:20270907T113000
DTSTAMP:20260424T170338
CREATED:20230810T031617Z
LAST-MODIFIED:20240510T003216Z
UID:10004498-1820309400-1820316600@oslc.org.au
SUMMARY:Picnic Group
DESCRIPTION:There’s a community Picnic once a month\, particularly for those who find it difficult to get out of their homes and who look forward to some sunshine and social interaction. We can arrange transport for you!
URL:https://oslc.org.au/event/picnic-group/2027-09-07/
LOCATION:Stan & Gwen’s
CATEGORIES:Care,Community Events,GROUPS,Hospitality,Life Stages,Retirees
END:VEVENT
BEGIN:VEVENT
DTSTART;TZID=Australia/Brisbane:20271005T093000
DTEND;TZID=Australia/Brisbane:20271005T113000
DTSTAMP:20260424T170338
CREATED:20230810T031617Z
LAST-MODIFIED:20240510T003216Z
UID:10004499-1822728600-1822735800@oslc.org.au
SUMMARY:Picnic Group
DESCRIPTION:There’s a community Picnic once a month\, particularly for those who find it difficult to get out of their homes and who look forward to some sunshine and social interaction. We can arrange transport for you!
URL:https://oslc.org.au/event/picnic-group/2027-10-05/
LOCATION:Stan & Gwen’s
CATEGORIES:Care,Community Events,GROUPS,Hospitality,Life Stages,Retirees
END:VEVENT
BEGIN:VEVENT
DTSTART;TZID=Australia/Brisbane:20271102T093000
DTEND;TZID=Australia/Brisbane:20271102T113000
DTSTAMP:20260424T170338
CREATED:20230810T031617Z
LAST-MODIFIED:20240510T003216Z
UID:10004500-1825147800-1825155000@oslc.org.au
SUMMARY:Picnic Group
DESCRIPTION:There’s a community Picnic once a month\, particularly for those who find it difficult to get out of their homes and who look forward to some sunshine and social interaction. We can arrange transport for you!
URL:https://oslc.org.au/event/picnic-group/2027-11-02/
LOCATION:Stan & Gwen’s
CATEGORIES:Care,Community Events,GROUPS,Hospitality,Life Stages,Retirees
END:VEVENT
BEGIN:VEVENT
DTSTART;TZID=Australia/Brisbane:20271207T093000
DTEND;TZID=Australia/Brisbane:20271207T113000
DTSTAMP:20260424T170338
CREATED:20230810T031617Z
LAST-MODIFIED:20240510T003216Z
UID:10004501-1828171800-1828179000@oslc.org.au
SUMMARY:Picnic Group
DESCRIPTION:There’s a community Picnic once a month\, particularly for those who find it difficult to get out of their homes and who look forward to some sunshine and social interaction. We can arrange transport for you!
URL:https://oslc.org.au/event/picnic-group/2027-12-07/
LOCATION:Stan & Gwen’s
CATEGORIES:Care,Community Events,GROUPS,Hospitality,Life Stages,Retirees
END:VEVENT
BEGIN:VEVENT
DTSTART;TZID=Australia/Brisbane:20280104T093000
DTEND;TZID=Australia/Brisbane:20280104T113000
DTSTAMP:20260424T170338
CREATED:20230810T031617Z
LAST-MODIFIED:20240510T003216Z
UID:10004502-1830591000-1830598200@oslc.org.au
SUMMARY:Picnic Group
DESCRIPTION:There’s a community Picnic once a month\, particularly for those who find it difficult to get out of their homes and who look forward to some sunshine and social interaction. We can arrange transport for you!
URL:https://oslc.org.au/event/picnic-group/2028-01-04/
LOCATION:Stan & Gwen’s
CATEGORIES:Care,Community Events,GROUPS,Hospitality,Life Stages,Retirees
END:VEVENT
BEGIN:VEVENT
DTSTART;TZID=Australia/Brisbane:20280201T093000
DTEND;TZID=Australia/Brisbane:20280201T113000
DTSTAMP:20260424T170338
CREATED:20230810T031617Z
LAST-MODIFIED:20240510T003216Z
UID:10004503-1833010200-1833017400@oslc.org.au
SUMMARY:Picnic Group
DESCRIPTION:There’s a community Picnic once a month\, particularly for those who find it difficult to get out of their homes and who look forward to some sunshine and social interaction. We can arrange transport for you!
URL:https://oslc.org.au/event/picnic-group/2028-02-01/
LOCATION:Stan & Gwen’s
CATEGORIES:Care,Community Events,GROUPS,Hospitality,Life Stages,Retirees
END:VEVENT
BEGIN:VEVENT
DTSTART;TZID=Australia/Brisbane:20280307T093000
DTEND;TZID=Australia/Brisbane:20280307T113000
DTSTAMP:20260424T170338
CREATED:20230810T031617Z
LAST-MODIFIED:20240510T003216Z
UID:10004504-1836034200-1836041400@oslc.org.au
SUMMARY:Picnic Group
DESCRIPTION:There’s a community Picnic once a month\, particularly for those who find it difficult to get out of their homes and who look forward to some sunshine and social interaction. We can arrange transport for you!
URL:https://oslc.org.au/event/picnic-group/2028-03-07/
LOCATION:Stan & Gwen’s
CATEGORIES:Care,Community Events,GROUPS,Hospitality,Life Stages,Retirees
END:VEVENT
BEGIN:VEVENT
DTSTART;TZID=Australia/Brisbane:20280404T093000
DTEND;TZID=Australia/Brisbane:20280404T113000
DTSTAMP:20260424T170338
CREATED:20230810T031617Z
LAST-MODIFIED:20240510T003216Z
UID:10004505-1838453400-1838460600@oslc.org.au
SUMMARY:Picnic Group
DESCRIPTION:There’s a community Picnic once a month\, particularly for those who find it difficult to get out of their homes and who look forward to some sunshine and social interaction. We can arrange transport for you!
URL:https://oslc.org.au/event/picnic-group/2028-04-04/
LOCATION:Stan & Gwen’s
CATEGORIES:Care,Community Events,GROUPS,Hospitality,Life Stages,Retirees
END:VEVENT
BEGIN:VEVENT
DTSTART;TZID=Australia/Brisbane:20280502T093000
DTEND;TZID=Australia/Brisbane:20280502T113000
DTSTAMP:20260424T170338
CREATED:20230810T031617Z
LAST-MODIFIED:20240510T003216Z
UID:10004506-1840872600-1840879800@oslc.org.au
SUMMARY:Picnic Group
DESCRIPTION:There’s a community Picnic once a month\, particularly for those who find it difficult to get out of their homes and who look forward to some sunshine and social interaction. We can arrange transport for you!
URL:https://oslc.org.au/event/picnic-group/2028-05-02/
LOCATION:Stan & Gwen’s
CATEGORIES:Care,Community Events,GROUPS,Hospitality,Life Stages,Retirees
END:VEVENT
BEGIN:VEVENT
DTSTART;TZID=Australia/Brisbane:20280606T093000
DTEND;TZID=Australia/Brisbane:20280606T113000
DTSTAMP:20260424T170338
CREATED:20230810T031617Z
LAST-MODIFIED:20240510T003216Z
UID:10004507-1843896600-1843903800@oslc.org.au
SUMMARY:Picnic Group
DESCRIPTION:There’s a community Picnic once a month\, particularly for those who find it difficult to get out of their homes and who look forward to some sunshine and social interaction. We can arrange transport for you!
URL:https://oslc.org.au/event/picnic-group/2028-06-06/
LOCATION:Stan & Gwen’s
CATEGORIES:Care,Community Events,GROUPS,Hospitality,Life Stages,Retirees
END:VEVENT
BEGIN:VEVENT
DTSTART;TZID=Australia/Brisbane:20280704T093000
DTEND;TZID=Australia/Brisbane:20280704T113000
DTSTAMP:20260424T170338
CREATED:20230810T031617Z
LAST-MODIFIED:20240510T003216Z
UID:10004508-1846315800-1846323000@oslc.org.au
SUMMARY:Picnic Group
DESCRIPTION:There’s a community Picnic once a month\, particularly for those who find it difficult to get out of their homes and who look forward to some sunshine and social interaction. We can arrange transport for you!
URL:https://oslc.org.au/event/picnic-group/2028-07-04/
LOCATION:Stan & Gwen’s
CATEGORIES:Care,Community Events,GROUPS,Hospitality,Life Stages,Retirees
END:VEVENT
BEGIN:VEVENT
DTSTART;TZID=Australia/Brisbane:20280801T093000
DTEND;TZID=Australia/Brisbane:20280801T113000
DTSTAMP:20260424T170338
CREATED:20230810T031617Z
LAST-MODIFIED:20240510T003216Z
UID:10004509-1848735000-1848742200@oslc.org.au
SUMMARY:Picnic Group
DESCRIPTION:There’s a community Picnic once a month\, particularly for those who find it difficult to get out of their homes and who look forward to some sunshine and social interaction. We can arrange transport for you!
URL:https://oslc.org.au/event/picnic-group/2028-08-01/
LOCATION:Stan & Gwen’s
CATEGORIES:Care,Community Events,GROUPS,Hospitality,Life Stages,Retirees
END:VEVENT
END:VCALENDAR